BEGIN:VCALENDAR
VERSION:2.0
PRODID:-//UNIVERSITY OF TEXAS SCHOOL OF LAW//NONSGML Events Calendar v1.0//EN
X-WR-TIMEZONE:America/Chicago
BEGIN:VTIMEZONE
TZID:US/Central
X-LIC-LOCATION:America/Chicago
BEGIN:DAYLIGHT
TZOFFSETFROM:-0600
TZOFFSETTO:-0500
TZNAME:CDT
DTSTART:19700308T020000
RRULE:FREQ=YEARLY;BYMONTH=3;BYDAY=2SU
END:DAYLIGHT
BEGIN:STANDARD
TZOFFSETFROM:-0500
TZOFFSETTO:-0600
TZNAME:CST
DTSTART:19701101T020000
RRULE:FREQ=YEARLY;BYMONTH=11;BYDAY=1SU
END:STANDARD
END:VTIMEZONE
BEGIN:VEVENT
DTSTART;TZID=US/Central:20130129T100000
DTEND;VALUE=DATE-TIME;TZID=US/Central:20130129T140000

DTSTAMP:20260422T224900Z
CREATED:20130122T211300Z
LAST-MODIFIED:20130122T211300Z
UID:20130129T100000-15927@law.utexas.edu
SUMMARY:Notary Clinic
DESCRIPTION:<p>UT Law notaries public will be available at the  Law School's Susman Godfrey Atrium on Tuesday, January 29 and Wednesday, January 30 from 10 a.m. to 2 p.m. Notaries will not be available outside of these hours on these dates. Students must be prepared to show a photo ID and the notary must witness the student sign the document. Notaries are available for Law School and state bar-related related business only. There is no charge. </p>\n\nIf you need an accommodation to participate in this event, please contact the event sponsor or the Texas Law Special Events Office at specialevents@law.utexas.edu no later than seven business days prior to the event.
X-ALT-DESC;FMTTYPE=text/html:<p>UT Law notaries public will be available at the  Law School's Susman Godfrey Atrium on Tuesday, January 29 and Wednesday, January 30 from 10 a.m. to 2 p.m. Notaries will not be available outside of these hours on these dates. Students must be prepared to show a photo ID and the notary must witness the student sign the document. Notaries are available for Law School and state bar-related related business only. There is no charge. </p><p>If you need an accommodation to participate in this event, please contact the event
                                          event sponsor or the Texas Law Special Events Office at <a href="mailto:specialevents@law.utexas.edu">specialevents@law.utexas.edu</a> no later than seven business days prior to the event.</p>
CATEGORIES:Other
LOCATION:TNH 2.100 - Susman Godfrey Atrium
URL:http://law.utexas.edu/calendar/2013/01/29/15927/
CLASS:PUBLIC
STATUS:CONFIRMED

END:VEVENT
END:VCALENDAR