BEGIN:VCALENDAR
VERSION:2.0
PRODID:-//UNIVERSITY OF TEXAS SCHOOL OF LAW//NONSGML Events Calendar v1.0//EN
X-WR-TIMEZONE:America/Chicago
BEGIN:VTIMEZONE
TZID:US/Central
X-LIC-LOCATION:America/Chicago
BEGIN:DAYLIGHT
TZOFFSETFROM:-0600
TZOFFSETTO:-0500
TZNAME:CDT
DTSTART:19700308T020000
RRULE:FREQ=YEARLY;BYMONTH=3;BYDAY=2SU
END:DAYLIGHT
BEGIN:STANDARD
TZOFFSETFROM:-0500
TZOFFSETTO:-0600
TZNAME:CST
DTSTART:19701101T020000
RRULE:FREQ=YEARLY;BYMONTH=11;BYDAY=1SU
END:STANDARD
END:VTIMEZONE
BEGIN:VEVENT
DTSTART;TZID=US/Central:20130130T103000
DTEND;VALUE=DATE-TIME;TZID=US/Central:20130130T140000

DTSTAMP:20260422T194800Z
CREATED:20130125T202300Z
LAST-MODIFIED:20130125T202300Z
UID:20130130T103000-15973@law.utexas.edu
SUMMARY:New Name Contest - Win Prizes!
DESCRIPTION:<p>Good with words? Do you like sushi or coffee?</p>
  <p>The Domestic Violence Survivor Support Network is a student-run organization that raises funds for the immediate needs of domestic violence survivors. Each year we raise and give away thousands of dollars to help survivors pay for housing, utilities, transportation, and other necessities as they escape their abusers.</p>
  <p>This awesome organization needs a new name that conveys our purpose clearly and succinctly--and we need your help! Submit your ideas at our table in the Atrium January 29-31, or email them to mailto:the.dvssn@gmail.com. We'll pick the best of the bunch and the winner will get a $25 gift card to Uchi! The runner up will receive $25 worth of free coffee at local joints. Multiple entries are welcome!</p>
  <p>Not good with words? No problem--we'll also have a raffle for other prizes!</p>\n\nIf you need an accommodation to participate in this event, please contact the event sponsor or the Texas Law Special Events Office at specialevents@law.utexas.edu no later than seven business days prior to the event.
X-ALT-DESC;FMTTYPE=text/html:<p>Good with words? Do you like sushi or coffee?</p>
  <p>The Domestic Violence Survivor Support Network is a student-run organization that raises funds for the immediate needs of domestic violence survivors. Each year we raise and give away thousands of dollars to help survivors pay for housing, utilities, transportation, and other necessities as they escape their abusers.</p>
  <p>This awesome organization needs a new name that conveys our purpose clearly and succinctly--and we need your help! Submit your ideas at our table in the Atrium January 29-31, or email them to mailto:the.dvssn@gmail.com. We'll pick the best of the bunch and the winner will get a $25 gift card to Uchi! The runner up will receive $25 worth of free coffee at local joints. Multiple entries are welcome!</p>
  <p>Not good with words? No problem--we'll also have a raffle for other prizes!</p><p>If you need an accommodation to participate in this event, please contact the event
                                          event sponsor or the Texas Law Special Events Office at <a href="mailto:specialevents@law.utexas.edu">specialevents@law.utexas.edu</a> no later than seven business days prior to the event.</p>
CATEGORIES:Other
LOCATION:TNH 2.100 - Susman Godfrey Atrium
URL:http://law.utexas.edu/calendar/2013/01/30/15973/
CLASS:PUBLIC
STATUS:CONFIRMED
COMMENT:http://www.utexas.edu/law/orgs/dvssn/what.htm
END:VEVENT
END:VCALENDAR