BEGIN:VCALENDAR
VERSION:2.0
PRODID:-//UNIVERSITY OF TEXAS SCHOOL OF LAW//NONSGML Events Calendar v1.0//EN
X-WR-TIMEZONE:America/Chicago
BEGIN:VTIMEZONE
TZID:US/Central
X-LIC-LOCATION:America/Chicago
BEGIN:DAYLIGHT
TZOFFSETFROM:-0600
TZOFFSETTO:-0500
TZNAME:CDT
DTSTART:19700308T020000
RRULE:FREQ=YEARLY;BYMONTH=3;BYDAY=2SU
END:DAYLIGHT
BEGIN:STANDARD
TZOFFSETFROM:-0500
TZOFFSETTO:-0600
TZNAME:CST
DTSTART:19701101T020000
RRULE:FREQ=YEARLY;BYMONTH=11;BYDAY=1SU
END:STANDARD
END:VTIMEZONE
BEGIN:VEVENT
DTSTART;TZID=US/Central:20130131T120000
DTEND;VALUE=DATE-TIME;TZID=US/Central:20130131T130000

DTSTAMP:20260422T182100Z
CREATED:20130130T230400Z
LAST-MODIFIED:20130130T230400Z
UID:20130131T120000-16015@law.utexas.edu
SUMMARY:TJOGEL Roundtable Luncheon
DESCRIPTION:<p>The Texas Journal of Oil, Gas &amp; Energy Law will be hosting a luncheon with Keith Strama, attorney at Beatty Bangle Strama.</p>
  <p>
  Mr. Strama represents clients from diverse industries before the Texas Legislature and state agencies on public policy and regulatory matters. He works closely with clients in the areas of energy, insurance, telecommunications, education technology, environmental regulation, health care and direct marketing. He has been involved with candidates and campaigns in local, statewide, legislative, and congressional races.  Mr. Strama works closely with state agencies with regard to regulatory matters. Keith has experience working with numerous agencies, including the Texas Alcoholic Beverage Commission, the Texas Commission on Environmental Quality, the Texas Railroad Commission, the Texas Department of Insurance, the Texas Medical Board, Texas Department of State Health Services, Texas Health &amp; Human Services Commission, Texas Attorney General, Texas Comptroller, Texas Education Agency, and the Texas Ethics Commission. For more info see: <a href="http://www.bbsfirm.com/keithstrama.html">http://www.bbsfirm.com/keithstrama.html</a> . 
  </p>\n\nIf you need an accommodation to participate in this event, please contact the event sponsor or the Texas Law Special Events Office at specialevents@law.utexas.edu no later than seven business days prior to the event.
X-ALT-DESC;FMTTYPE=text/html:<p>The Texas Journal of Oil, Gas &amp; Energy Law will be hosting a luncheon with Keith Strama, attorney at Beatty Bangle Strama.</p>
  <p>
  Mr. Strama represents clients from diverse industries before the Texas Legislature and state agencies on public policy and regulatory matters. He works closely with clients in the areas of energy, insurance, telecommunications, education technology, environmental regulation, health care and direct marketing. He has been involved with candidates and campaigns in local, statewide, legislative, and congressional races.  Mr. Strama works closely with state agencies with regard to regulatory matters. Keith has experience working with numerous agencies, including the Texas Alcoholic Beverage Commission, the Texas Commission on Environmental Quality, the Texas Railroad Commission, the Texas Department of Insurance, the Texas Medical Board, Texas Department of State Health Services, Texas Health &amp; Human Services Commission, Texas Attorney General, Texas Comptroller, Texas Education Agency, and the Texas Ethics Commission. For more info see: <a href="http://www.bbsfirm.com/keithstrama.html">http://www.bbsfirm.com/keithstrama.html</a> . 
  </p><p>If you need an accommodation to participate in this event, please contact the event
                                          event sponsor or the Texas Law Special Events Office at <a href="mailto:specialevents@law.utexas.edu">specialevents@law.utexas.edu</a> no later than seven business days prior to the event.</p>
CATEGORIES:Lunch
LOCATION:
URL:http://law.utexas.edu/calendar/2013/01/31/16015/
CLASS:PUBLIC
STATUS:CONFIRMED

END:VEVENT
END:VCALENDAR