BEGIN:VCALENDAR
VERSION:2.0
PRODID:-//UNIVERSITY OF TEXAS SCHOOL OF LAW//NONSGML Events Calendar v1.0//EN
X-WR-TIMEZONE:America/Chicago
BEGIN:VTIMEZONE
TZID:US/Central
X-LIC-LOCATION:America/Chicago
BEGIN:DAYLIGHT
TZOFFSETFROM:-0600
TZOFFSETTO:-0500
TZNAME:CDT
DTSTART:19700308T020000
RRULE:FREQ=YEARLY;BYMONTH=3;BYDAY=2SU
END:DAYLIGHT
BEGIN:STANDARD
TZOFFSETFROM:-0500
TZOFFSETTO:-0600
TZNAME:CST
DTSTART:19701101T020000
RRULE:FREQ=YEARLY;BYMONTH=11;BYDAY=1SU
END:STANDARD
END:VTIMEZONE
BEGIN:VEVENT
DTSTART;TZID=US/Central:20130201T120000
DTEND;VALUE=DATE-TIME;TZID=US/Central:20130201T133000

DTSTAMP:20260422T182100Z
CREATED:20121218T165600Z
LAST-MODIFIED:20130131T210300Z
UID:20130201T120000-15669@law.utexas.edu
SUMMARY:International Arbitration in Latin Ameri
DESCRIPTION:<p>Andrés Jana is the partner in charge of the International Arbitration Group at Bofill Mir &amp; Alvarez, Santiago, Chile. He is the Chilean delegate before the United Nations Commission on International Trade Law, UNCITRAL and is a member of the Working Group on Arbitration Involving States or State Entities of the ICC’s Arbitration Committee. Andrés Jana has an extensive practice in commercial and investment arbitration and was appointed by the Chilean government as a member of the list of ICSID arbitrators. </p>
  <p>LUNCH PROVIDED
  Please RSVP to gdawson@law.utexas.edu (TNH 3.119)</p>\n\nIf you need an accommodation to participate in this event, please contact the event sponsor or the Texas Law Special Events Office at specialevents@law.utexas.edu no later than seven business days prior to the event.
X-ALT-DESC;FMTTYPE=text/html:<p>Andrés Jana is the partner in charge of the International Arbitration Group at Bofill Mir &amp; Alvarez, Santiago, Chile. He is the Chilean delegate before the United Nations Commission on International Trade Law, UNCITRAL and is a member of the Working Group on Arbitration Involving States or State Entities of the ICC’s Arbitration Committee. Andrés Jana has an extensive practice in commercial and investment arbitration and was appointed by the Chilean government as a member of the list of ICSID arbitrators. </p>
  <p>LUNCH PROVIDED
  Please RSVP to gdawson@law.utexas.edu (TNH 3.119)</p><p>If you need an accommodation to participate in this event, please contact the event
                                          event sponsor or the Texas Law Special Events Office at <a href="mailto:specialevents@law.utexas.edu">specialevents@law.utexas.edu</a> no later than seven business days prior to the event.</p>
CATEGORIES:Lunch
LOCATION:TNH 2.111 - Sheffield-Massey Room
URL:http://law.utexas.edu/calendar/2013/02/01/15669/
CLASS:PUBLIC
STATUS:CONFIRMED
COMMENT:Contact Gena Dawson at gdawson@law.utexas.edu.
END:VEVENT
END:VCALENDAR