BEGIN:VCALENDAR
VERSION:2.0
PRODID:-//UNIVERSITY OF TEXAS SCHOOL OF LAW//NONSGML Events Calendar v1.0//EN
X-WR-TIMEZONE:America/Chicago
BEGIN:VTIMEZONE
TZID:US/Central
X-LIC-LOCATION:America/Chicago
BEGIN:DAYLIGHT
TZOFFSETFROM:-0600
TZOFFSETTO:-0500
TZNAME:CDT
DTSTART:19700308T020000
RRULE:FREQ=YEARLY;BYMONTH=3;BYDAY=2SU
END:DAYLIGHT
BEGIN:STANDARD
TZOFFSETFROM:-0500
TZOFFSETTO:-0600
TZNAME:CST
DTSTART:19701101T020000
RRULE:FREQ=YEARLY;BYMONTH=11;BYDAY=1SU
END:STANDARD
END:VTIMEZONE
BEGIN:VEVENT
DTSTART;TZID=US/Central:20130204


DTSTAMP:20260422T182300Z
CREATED:20130115T215400Z
LAST-MODIFIED:20130115T215400Z
UID:20130204T000000-15847@law.utexas.edu
SUMMARY:TJWL Spring Write-On
DESCRIPTION:<p>Texas Journal of Women and the Law is receiving applications for Spring Write-On.  Applications are due February 5, 2013.  For more information email Alyssa Flores at alyssa.flores@utexas.edu.  </p>\n\nIf you need an accommodation to participate in this event, please contact the event sponsor or the Texas Law Special Events Office at specialevents@law.utexas.edu no later than seven business days prior to the event.
X-ALT-DESC;FMTTYPE=text/html:<p>Texas Journal of Women and the Law is receiving applications for Spring Write-On.  Applications are due February 5, 2013.  For more information email Alyssa Flores at alyssa.flores@utexas.edu.  </p><p>If you need an accommodation to participate in this event, please contact the event
                                          event sponsor or the Texas Law Special Events Office at <a href="mailto:specialevents@law.utexas.edu">specialevents@law.utexas.edu</a> no later than seven business days prior to the event.</p>


URL:http://law.utexas.edu/calendar/2013/02/04/15847/
CLASS:PUBLIC
STATUS:CONFIRMED

END:VEVENT
END:VCALENDAR