BEGIN:VCALENDAR
VERSION:2.0
PRODID:-//UNIVERSITY OF TEXAS SCHOOL OF LAW//NONSGML Events Calendar v1.0//EN
X-WR-TIMEZONE:America/Chicago
BEGIN:VTIMEZONE
TZID:US/Central
X-LIC-LOCATION:America/Chicago
BEGIN:DAYLIGHT
TZOFFSETFROM:-0600
TZOFFSETTO:-0500
TZNAME:CDT
DTSTART:19700308T020000
RRULE:FREQ=YEARLY;BYMONTH=3;BYDAY=2SU
END:DAYLIGHT
BEGIN:STANDARD
TZOFFSETFROM:-0500
TZOFFSETTO:-0600
TZNAME:CST
DTSTART:19701101T020000
RRULE:FREQ=YEARLY;BYMONTH=11;BYDAY=1SU
END:STANDARD
END:VTIMEZONE
BEGIN:VEVENT
DTSTART;TZID=US/Central:20130205T183000


DTSTAMP:20260422T182100Z
CREATED:20120821T175800Z
LAST-MODIFIED:20120821T175800Z
UID:20130205T183000-14867@law.utexas.edu
SUMMARY:Virgil C. Lott Award
DESCRIPTION:<p>The Honorable Rodney G. Ellis will be presented with the Virgil C. Lott Medal on Tuesday, February 5th at 6:30 p.m. in the Kondorsky Donor Lounge at the Long Center.</p>\n\nIf you need an accommodation to participate in this event, please contact the event sponsor or the Texas Law Special Events Office at specialevents@law.utexas.edu no later than seven business days prior to the event.
X-ALT-DESC;FMTTYPE=text/html:<p>The Honorable Rodney G. Ellis will be presented with the Virgil C. Lott Medal on Tuesday, February 5th at 6:30 p.m. in the Kondorsky Donor Lounge at the Long Center.</p><p>If you need an accommodation to participate in this event, please contact the event
                                          event sponsor or the Texas Law Special Events Office at <a href="mailto:specialevents@law.utexas.edu">specialevents@law.utexas.edu</a> no later than seven business days prior to the event.</p>


URL:http://law.utexas.edu/calendar/2013/02/05/14867/
CLASS:PUBLIC
STATUS:CONFIRMED

END:VEVENT
END:VCALENDAR