BEGIN:VCALENDAR
VERSION:2.0
PRODID:-//UNIVERSITY OF TEXAS SCHOOL OF LAW//NONSGML Events Calendar v1.0//EN
X-WR-TIMEZONE:America/Chicago
BEGIN:VTIMEZONE
TZID:US/Central
X-LIC-LOCATION:America/Chicago
BEGIN:DAYLIGHT
TZOFFSETFROM:-0600
TZOFFSETTO:-0500
TZNAME:CDT
DTSTART:19700308T020000
RRULE:FREQ=YEARLY;BYMONTH=3;BYDAY=2SU
END:DAYLIGHT
BEGIN:STANDARD
TZOFFSETFROM:-0500
TZOFFSETTO:-0600
TZNAME:CST
DTSTART:19701101T020000
RRULE:FREQ=YEARLY;BYMONTH=11;BYDAY=1SU
END:STANDARD
END:VTIMEZONE
BEGIN:VEVENT
DTSTART;TZID=US/Central:20130207T100000
DTEND;VALUE=DATE-TIME;TZID=US/Central:20130207T173000

DTSTAMP:20260422T212000Z
CREATED:20120919T212100Z
LAST-MODIFIED:20120919T212100Z
UID:20130207T100000-15103@law.utexas.edu
SUMMARY:Special Needs
DESCRIPTION:<p>For more information on this event, please visit www.utcle.org/conferences/SN13</p>\n\nIf you need an accommodation to participate in this event, please contact the event sponsor or the Texas Law Special Events Office at specialevents@law.utexas.edu no later than seven business days prior to the event.
X-ALT-DESC;FMTTYPE=text/html:<p>For more information on this event, please visit www.utcle.org/conferences/SN13</p><p>If you need an accommodation to participate in this event, please contact the event
                                          event sponsor or the Texas Law Special Events Office at <a href="mailto:specialevents@law.utexas.edu">specialevents@law.utexas.edu</a> no later than seven business days prior to the event.</p>
CATEGORIES:Other
LOCATION:AT&T Conference Center - Hotel at UT
URL:http://law.utexas.edu/calendar/2013/02/07/15103/
CLASS:PUBLIC
STATUS:CONFIRMED
COMMENT:www.utcle.org/conferences/SN13
END:VEVENT
END:VCALENDAR