BEGIN:VCALENDAR
VERSION:2.0
PRODID:-//UNIVERSITY OF TEXAS SCHOOL OF LAW//NONSGML Events Calendar v1.0//EN
X-WR-TIMEZONE:America/Chicago
BEGIN:VTIMEZONE
TZID:US/Central
X-LIC-LOCATION:America/Chicago
BEGIN:DAYLIGHT
TZOFFSETFROM:-0600
TZOFFSETTO:-0500
TZNAME:CDT
DTSTART:19700308T020000
RRULE:FREQ=YEARLY;BYMONTH=3;BYDAY=2SU
END:DAYLIGHT
BEGIN:STANDARD
TZOFFSETFROM:-0500
TZOFFSETTO:-0600
TZNAME:CST
DTSTART:19701101T020000
RRULE:FREQ=YEARLY;BYMONTH=11;BYDAY=1SU
END:STANDARD
END:VTIMEZONE
BEGIN:VEVENT
DTSTART;TZID=US/Central:20130207T143000
DTEND;TZID=US/Central:20130207T143000

DTSTAMP:20260422T192700Z
CREATED:20130206T165600Z
LAST-MODIFIED:20130206T165600Z
UID:20130207T000000-16040@law.utexas.edu
SUMMARY:CANCELED: SBA Spring Elections Candidate Petitions
DESCRIPTION:<p>You must also turn in your SBA Candidate Petition form by Thursday, March 21 by 2:30p.m. in the ballot box outside of the SBA Office TNH 2.128E.  Petitions available here: <a href="http://www.utexas.edu/law/orgs/sba/SBA/constitution.htm.">http://www.utexas.edu/law/orgs/sba/SBA/constitution.htm.</a></p>
  <p>Elections will take place from 10:30a.m.-2:30p.m. in the Atrium on Wednesday, March 27.</p>\n\nIf you need an accommodation to participate in this event, please contact the event sponsor or the Texas Law Special Events Office at specialevents@law.utexas.edu no later than seven business days prior to the event.
X-ALT-DESC;FMTTYPE=text/html:<p>You must also turn in your SBA Candidate Petition form by Thursday, March 21 by 2:30p.m. in the ballot box outside of the SBA Office TNH 2.128E.  Petitions available here: <a href="http://www.utexas.edu/law/orgs/sba/SBA/constitution.htm.">http://www.utexas.edu/law/orgs/sba/SBA/constitution.htm.</a></p>
  <p>Elections will take place from 10:30a.m.-2:30p.m. in the Atrium on Wednesday, March 27.</p><p>If you need an accommodation to participate in this event, please contact the event
                                          event sponsor or the Texas Law Special Events Office at <a href="mailto:specialevents@law.utexas.edu">specialevents@law.utexas.edu</a> no later than seven business days prior to the event.</p>

LOCATION:SBA Office TNH 2.128E
URL:http://law.utexas.edu/calendar/2013/02/07/16040/
CLASS:PUBLIC
STATUS:CANCELLED
COMMENT:http://www.utexas.edu/law/orgs/sba/SBA/constitution.htm
END:VEVENT
END:VCALENDAR