BEGIN:VCALENDAR
VERSION:2.0
PRODID:-//UNIVERSITY OF TEXAS SCHOOL OF LAW//NONSGML Events Calendar v1.0//EN
X-WR-TIMEZONE:America/Chicago
BEGIN:VTIMEZONE
TZID:US/Central
X-LIC-LOCATION:America/Chicago
BEGIN:DAYLIGHT
TZOFFSETFROM:-0600
TZOFFSETTO:-0500
TZNAME:CDT
DTSTART:19700308T020000
RRULE:FREQ=YEARLY;BYMONTH=3;BYDAY=2SU
END:DAYLIGHT
BEGIN:STANDARD
TZOFFSETFROM:-0500
TZOFFSETTO:-0600
TZNAME:CST
DTSTART:19701101T020000
RRULE:FREQ=YEARLY;BYMONTH=11;BYDAY=1SU
END:STANDARD
END:VTIMEZONE
BEGIN:VEVENT
DTSTART;TZID=US/Central:20130208T083000
DTEND;VALUE=DATE-TIME;TZID=US/Central:20130208T151500

DTSTAMP:20260422T182100Z
CREATED:20120612T211800Z
LAST-MODIFIED:20120612T211900Z
UID:20130208T083000-14590@law.utexas.edu
SUMMARY:Securities Regulation and Business Law
DESCRIPTION:<p>Join leading securities law experts, including practitioners, bankers, market makers, regulators and judges at the 35th Annual Conference on Securities Regulation and Business Law at the Four Seasons Hotel in Austin for two days of engaging topics.</p>
  <p>Don’t miss this opportunity to join us for superb materials, A-list speakers from Texas, New York, and Delaware, and terrific networking opportunities, including buffet lunches and Thursday evening's reception.</p>
  <p>View program and register online at www.utcle.org/conferences/SR13</p>\n\nIf you need an accommodation to participate in this event, please contact the event sponsor or the Texas Law Special Events Office at specialevents@law.utexas.edu no later than seven business days prior to the event.
X-ALT-DESC;FMTTYPE=text/html:<p>Join leading securities law experts, including practitioners, bankers, market makers, regulators and judges at the 35th Annual Conference on Securities Regulation and Business Law at the Four Seasons Hotel in Austin for two days of engaging topics.</p>
  <p>Don’t miss this opportunity to join us for superb materials, A-list speakers from Texas, New York, and Delaware, and terrific networking opportunities, including buffet lunches and Thursday evening's reception.</p>
  <p>View program and register online at www.utcle.org/conferences/SR13</p><p>If you need an accommodation to participate in this event, please contact the event
                                          event sponsor or the Texas Law Special Events Office at <a href="mailto:specialevents@law.utexas.edu">specialevents@law.utexas.edu</a> no later than seven business days prior to the event.</p>
CATEGORIES:Other
LOCATION:Four Seasons Hotel Austin
URL:http://law.utexas.edu/calendar/2013/02/08/14590/
CLASS:PUBLIC
STATUS:CONFIRMED
COMMENT:www.utcle.org/conferences/SR13
END:VEVENT
END:VCALENDAR