BEGIN:VCALENDAR
VERSION:2.0
PRODID:-//UNIVERSITY OF TEXAS SCHOOL OF LAW//NONSGML Events Calendar v1.0//EN
X-WR-TIMEZONE:America/Chicago
BEGIN:VTIMEZONE
TZID:US/Central
X-LIC-LOCATION:America/Chicago
BEGIN:DAYLIGHT
TZOFFSETFROM:-0600
TZOFFSETTO:-0500
TZNAME:CDT
DTSTART:19700308T020000
RRULE:FREQ=YEARLY;BYMONTH=3;BYDAY=2SU
END:DAYLIGHT
BEGIN:STANDARD
TZOFFSETFROM:-0500
TZOFFSETTO:-0600
TZNAME:CST
DTSTART:19701101T020000
RRULE:FREQ=YEARLY;BYMONTH=11;BYDAY=1SU
END:STANDARD
END:VTIMEZONE
BEGIN:VEVENT
DTSTART;TZID=US/Central:20130208T080000
DTEND;VALUE=DATE-TIME;TZID=US/Central:20130208T180000

DTSTAMP:20260422T194800Z
CREATED:20120815T183100Z
LAST-MODIFIED:20120815T183100Z
UID:20130208T080000-14819@law.utexas.edu
SUMMARY:TILJ International Insolvency Symposium
DESCRIPTION:<p>The Texas International Law Journal is hosting its annual International Law Symposium on February 7 and 8 in the Thompson Conference Center. This year's faculty sponsor is Professor Westbrook and the topic will be International Insolvency. In the wake of the Euro Debt Crisis, this Symposium will offer forward-thinking viewpoints on the future of international finance.</p>\n\nIf you need an accommodation to participate in this event, please contact the event sponsor or the Texas Law Special Events Office at specialevents@law.utexas.edu no later than seven business days prior to the event.
X-ALT-DESC;FMTTYPE=text/html:<p>The Texas International Law Journal is hosting its annual International Law Symposium on February 7 and 8 in the Thompson Conference Center. This year's faculty sponsor is Professor Westbrook and the topic will be International Insolvency. In the wake of the Euro Debt Crisis, this Symposium will offer forward-thinking viewpoints on the future of international finance.</p><p>If you need an accommodation to participate in this event, please contact the event
                                          event sponsor or the Texas Law Special Events Office at <a href="mailto:specialevents@law.utexas.edu">specialevents@law.utexas.edu</a> no later than seven business days prior to the event.</p>
CATEGORIES:Symposium
LOCATION:Thompson Conference Center
URL:http://law.utexas.edu/calendar/2013/02/08/14819/
CLASS:PUBLIC
STATUS:CONFIRMED
COMMENT:http://www.tilj.org
END:VEVENT
END:VCALENDAR