BEGIN:VCALENDAR
VERSION:2.0
PRODID:-//UNIVERSITY OF TEXAS SCHOOL OF LAW//NONSGML Events Calendar v1.0//EN
X-WR-TIMEZONE:America/Chicago
BEGIN:VTIMEZONE
TZID:US/Central
X-LIC-LOCATION:America/Chicago
BEGIN:DAYLIGHT
TZOFFSETFROM:-0600
TZOFFSETTO:-0500
TZNAME:CDT
DTSTART:19700308T020000
RRULE:FREQ=YEARLY;BYMONTH=3;BYDAY=2SU
END:DAYLIGHT
BEGIN:STANDARD
TZOFFSETFROM:-0500
TZOFFSETTO:-0600
TZNAME:CST
DTSTART:19701101T020000
RRULE:FREQ=YEARLY;BYMONTH=11;BYDAY=1SU
END:STANDARD
END:VTIMEZONE
BEGIN:VEVENT
DTSTART;TZID=US/Central:20130208T090000
DTEND;VALUE=DATE-TIME;TZID=US/Central:20130208T170000

DTSTAMP:20260422T182200Z
CREATED:20120920T194800Z
LAST-MODIFIED:20130207T151000Z
UID:20130208T090000-15118@law.utexas.edu
SUMMARY:Rapoport Center Annual Conference
DESCRIPTION:<p>The Rapoport Center's ninth annual conference, entitled "Impunity, Justice and the Human Rights Agenda," will be held at the University of Texas School of Law on February 7-8, 2013. This multidisciplinary conference will bring together scholars, human rights advocates and policy makers from around the world to assess critically the human rights movement's focus on anti-impunity. Panels include "The Anti-Impunity Professional: A View from Inside," "The Criminal Law Paradigm," "Criminalization and the Politics of Transition," and "Transitional Justice Outside the Criminal Law Paradigm." </p>\n\nIf you need an accommodation to participate in this event, please contact the event sponsor or the Texas Law Special Events Office at specialevents@law.utexas.edu no later than seven business days prior to the event.
X-ALT-DESC;FMTTYPE=text/html:<p>The Rapoport Center's ninth annual conference, entitled "Impunity, Justice and the Human Rights Agenda," will be held at the University of Texas School of Law on February 7-8, 2013. This multidisciplinary conference will bring together scholars, human rights advocates and policy makers from around the world to assess critically the human rights movement's focus on anti-impunity. Panels include "The Anti-Impunity Professional: A View from Inside," "The Criminal Law Paradigm," "Criminalization and the Politics of Transition," and "Transitional Justice Outside the Criminal Law Paradigm." </p><p>If you need an accommodation to participate in this event, please contact the event
                                          event sponsor or the Texas Law Special Events Office at <a href="mailto:specialevents@law.utexas.edu">specialevents@law.utexas.edu</a> no later than seven business days prior to the event.</p>
CATEGORIES:Symposium
LOCATION:CCJ 2.306 - Eidman Courtroom
URL:http://law.utexas.edu/calendar/2013/02/08/15118/
CLASS:PUBLIC
STATUS:CONFIRMED

END:VEVENT
END:VCALENDAR