BEGIN:VCALENDAR
VERSION:2.0
PRODID:-//UNIVERSITY OF TEXAS SCHOOL OF LAW//NONSGML Events Calendar v1.0//EN
X-WR-TIMEZONE:America/Chicago
BEGIN:VTIMEZONE
TZID:US/Central
X-LIC-LOCATION:America/Chicago
BEGIN:DAYLIGHT
TZOFFSETFROM:-0600
TZOFFSETTO:-0500
TZNAME:CDT
DTSTART:19700308T020000
RRULE:FREQ=YEARLY;BYMONTH=3;BYDAY=2SU
END:DAYLIGHT
BEGIN:STANDARD
TZOFFSETFROM:-0500
TZOFFSETTO:-0600
TZNAME:CST
DTSTART:19701101T020000
RRULE:FREQ=YEARLY;BYMONTH=11;BYDAY=1SU
END:STANDARD
END:VTIMEZONE
BEGIN:VEVENT
DTSTART;TZID=US/Central:20130225T173000
DTEND;VALUE=DATE-TIME;TZID=US/Central:20130225T183000

DTSTAMP:20260422T182200Z
CREATED:20130117T180600Z
LAST-MODIFIED:20130221T215700Z
UID:20130225T173000-15889@law.utexas.edu
SUMMARY:Patent Bar Exam Information Session
DESCRIPTION:<p><a href="http://www.pli.edu/">Practising Law Institute (PLI)</a> invites you to a presentation by Mark Dighton, PLI's Director of Law School Relations and a Director of their Patent Bar Review Course. Topics for discussion include the latest information on the Patent Bar Exam and who can take it; how it works, now that it's on computer and “on demand”; when you should take it (you don't need to…and probably shouldn't…wait until you graduate); how and when the <a href="http://www.uspto.gov/aia_implementation/index.jsp">America Invents Act</a> will impact the Exam; and recommendations on when and how to study for the Patent Exam. Scholarships to PLI's other IP programs will also be discussed.</p>
  <p>If you have an undergrad degree (or at least about two years of coursework) in engineering, computer sciences or the hard sciences (chemistry, biology, physics, some related fields), and are interested in becoming a Patent Agent or Attorney, you are invited to attend.</p>
  <p>Pizza will be served. RSVP by Friday, February 22, on <a title="UT Law Symplicity" href="https://law-utexas-csm.symplicity.com/students/">UT Law Symplicity</a> by selecting the "Events" tab.
  </p>\n\nIf you need an accommodation to participate in this event, please contact the event sponsor or the Texas Law Special Events Office at specialevents@law.utexas.edu no later than seven business days prior to the event.
X-ALT-DESC;FMTTYPE=text/html:<p><a href="http://www.pli.edu/">Practising Law Institute (PLI)</a> invites you to a presentation by Mark Dighton, PLI's Director of Law School Relations and a Director of their Patent Bar Review Course. Topics for discussion include the latest information on the Patent Bar Exam and who can take it; how it works, now that it's on computer and “on demand”; when you should take it (you don't need to…and probably shouldn't…wait until you graduate); how and when the <a href="http://www.uspto.gov/aia_implementation/index.jsp">America Invents Act</a> will impact the Exam; and recommendations on when and how to study for the Patent Exam. Scholarships to PLI's other IP programs will also be discussed.</p>
  <p>If you have an undergrad degree (or at least about two years of coursework) in engineering, computer sciences or the hard sciences (chemistry, biology, physics, some related fields), and are interested in becoming a Patent Agent or Attorney, you are invited to attend.</p>
  <p>Pizza will be served. RSVP by Friday, February 22, on <a title="UT Law Symplicity" href="https://law-utexas-csm.symplicity.com/students/">UT Law Symplicity</a> by selecting the "Events" tab.
  </p><p>If you need an accommodation to participate in this event, please contact the event
                                          event sponsor or the Texas Law Special Events Office at <a href="mailto:specialevents@law.utexas.edu">specialevents@law.utexas.edu</a> no later than seven business days prior to the event.</p>
CATEGORIES:Workshop / Training Program
LOCATION:TNH 3.126 - Ratliff Classroom
URL:http://law.utexas.edu/calendar/2013/02/25/15889/
CLASS:PUBLIC
STATUS:CONFIRMED
COMMENT:Please contact Natalie Aitken, Career Counselor, at 512-232-1162 or <a href="mailto:naitken@law.utexas.edu">naitken@law.utexas.edu</a>.
END:VEVENT
END:VCALENDAR