BEGIN:VCALENDAR
VERSION:2.0
PRODID:-//UNIVERSITY OF TEXAS SCHOOL OF LAW//NONSGML Events Calendar v1.0//EN
X-WR-TIMEZONE:America/Chicago
BEGIN:VTIMEZONE
TZID:US/Central
X-LIC-LOCATION:America/Chicago
BEGIN:DAYLIGHT
TZOFFSETFROM:-0600
TZOFFSETTO:-0500
TZNAME:CDT
DTSTART:19700308T020000
RRULE:FREQ=YEARLY;BYMONTH=3;BYDAY=2SU
END:DAYLIGHT
BEGIN:STANDARD
TZOFFSETFROM:-0500
TZOFFSETTO:-0600
TZNAME:CST
DTSTART:19701101T020000
RRULE:FREQ=YEARLY;BYMONTH=11;BYDAY=1SU
END:STANDARD
END:VTIMEZONE
BEGIN:VEVENT
DTSTART;TZID=US/Central:20130225T113000
DTEND;VALUE=DATE-TIME;TZID=US/Central:20130225T130000

DTSTAMP:20260422T165400Z
CREATED:20130214T190900Z
LAST-MODIFIED:20130214T190900Z
UID:20130225T113000-16115@law.utexas.edu
SUMMARY:"Zero Dark Thirty" and Torture
DESCRIPTION:<p>Ramzi Kassem, Associate Professor of Law and Director of the Immigrant &amp; Non-Citizen Rights Clinic at the City University of New York will present a talk entitled "'Zero Dark Thirty' and Torture in American Discourse." The Oscar-nominated film Zero Dark Thirty has reignited the controversy about the place of torture in American policy. Professor Ramzi Kassem will explore what the ongoing debate reveals—and what it obscures—about American counterterrorism efforts and the United States’ current legal and moral standing. Presented by the Department of Anthropology, the National Security Clinic, the Rapoport Center for Human Rights and Justice, the Department of Sociology, and the South Asia Institute.</p>\n\nIf you need an accommodation to participate in this event, please contact the event sponsor or the Texas Law Special Events Office at specialevents@law.utexas.edu no later than seven business days prior to the event.
X-ALT-DESC;FMTTYPE=text/html:<p>Ramzi Kassem, Associate Professor of Law and Director of the Immigrant &amp; Non-Citizen Rights Clinic at the City University of New York will present a talk entitled "'Zero Dark Thirty' and Torture in American Discourse." The Oscar-nominated film Zero Dark Thirty has reignited the controversy about the place of torture in American policy. Professor Ramzi Kassem will explore what the ongoing debate reveals—and what it obscures—about American counterterrorism efforts and the United States’ current legal and moral standing. Presented by the Department of Anthropology, the National Security Clinic, the Rapoport Center for Human Rights and Justice, the Department of Sociology, and the South Asia Institute.</p><p>If you need an accommodation to participate in this event, please contact the event
                                          event sponsor or the Texas Law Special Events Office at <a href="mailto:specialevents@law.utexas.edu">specialevents@law.utexas.edu</a> no later than seven business days prior to the event.</p>
CATEGORIES:Panel Discussion / Speaker Series
LOCATION:TNH 3.127 - Roberts Classroom
URL:http://law.utexas.edu/calendar/2013/02/25/16115/
CLASS:PUBLIC
STATUS:CONFIRMED

END:VEVENT
END:VCALENDAR