BEGIN:VCALENDAR
VERSION:2.0
PRODID:-//UNIVERSITY OF TEXAS SCHOOL OF LAW//NONSGML Events Calendar v1.0//EN
X-WR-TIMEZONE:America/Chicago
BEGIN:VTIMEZONE
TZID:US/Central
X-LIC-LOCATION:America/Chicago
BEGIN:DAYLIGHT
TZOFFSETFROM:-0600
TZOFFSETTO:-0500
TZNAME:CDT
DTSTART:19700308T020000
RRULE:FREQ=YEARLY;BYMONTH=3;BYDAY=2SU
END:DAYLIGHT
BEGIN:STANDARD
TZOFFSETFROM:-0500
TZOFFSETTO:-0600
TZNAME:CST
DTSTART:19701101T020000
RRULE:FREQ=YEARLY;BYMONTH=11;BYDAY=1SU
END:STANDARD
END:VTIMEZONE
BEGIN:VEVENT
DTSTART;TZID=US/Central:20130226T113000
DTEND;VALUE=DATE-TIME;TZID=US/Central:20130226T130000

DTSTAMP:20260422T165500Z
CREATED:20130220T211700Z
LAST-MODIFIED:20130225T164300Z
UID:20130226T113000-16215@law.utexas.edu
SUMMARY:The Review of Litigation- Luncheon Panel
DESCRIPTION:<p>The Review of Litigation is hosting our supporting law firms for a luncheon panel discussion titled: "Tips for Success as a First Year Associate." The participating firms are: Jones Day, Beck Redden, Fish &amp; Richardson, V&amp;E, Akin Gump, and McKool Smith. First year, second year, and third year students will attend. </p>\n\nIf you need an accommodation to participate in this event, please contact the event sponsor or the Texas Law Special Events Office at specialevents@law.utexas.edu no later than seven business days prior to the event.
X-ALT-DESC;FMTTYPE=text/html:<p>The Review of Litigation is hosting our supporting law firms for a luncheon panel discussion titled: "Tips for Success as a First Year Associate." The participating firms are: Jones Day, Beck Redden, Fish &amp; Richardson, V&amp;E, Akin Gump, and McKool Smith. First year, second year, and third year students will attend. </p><p>If you need an accommodation to participate in this event, please contact the event
                                          event sponsor or the Texas Law Special Events Office at <a href="mailto:specialevents@law.utexas.edu">specialevents@law.utexas.edu</a> no later than seven business days prior to the event.</p>
CATEGORIES:Lunch
LOCATION:TNH 2.124 - Reaud Classroom
URL:http://law.utexas.edu/calendar/2013/02/26/16215/
CLASS:PUBLIC
STATUS:CONFIRMED
COMMENT:Contact Jillian Trezza at jillian.trezza@gmail.com
END:VEVENT
END:VCALENDAR