BEGIN:VCALENDAR
VERSION:2.0
PRODID:-//UNIVERSITY OF TEXAS SCHOOL OF LAW//NONSGML Events Calendar v1.0//EN
X-WR-TIMEZONE:America/Chicago
BEGIN:VTIMEZONE
TZID:US/Central
X-LIC-LOCATION:America/Chicago
BEGIN:DAYLIGHT
TZOFFSETFROM:-0600
TZOFFSETTO:-0500
TZNAME:CDT
DTSTART:19700308T020000
RRULE:FREQ=YEARLY;BYMONTH=3;BYDAY=2SU
END:DAYLIGHT
BEGIN:STANDARD
TZOFFSETFROM:-0500
TZOFFSETTO:-0600
TZNAME:CST
DTSTART:19701101T020000
RRULE:FREQ=YEARLY;BYMONTH=11;BYDAY=1SU
END:STANDARD
END:VTIMEZONE
BEGIN:VEVENT
DTSTART;TZID=US/Central:20130227T150000
DTEND;VALUE=DATE-TIME;TZID=US/Central:20130227T170000

DTSTAMP:20260422T182100Z
CREATED:20130208T175000Z
LAST-MODIFIED:20130208T175000Z
UID:20130227T150000-16052@law.utexas.edu
SUMMARY:Panel on Practicing in Criminal Law.
DESCRIPTION:<p>Panel on Practicing in Criminal Law. We're bringing together prosecutors and defense attorneys from various types of criminal practice to discuss their practice from a career exploration perspective, and answer student questions about practicing in criminal law.</p>\n\nIf you need an accommodation to participate in this event, please contact the event sponsor or the Texas Law Special Events Office at specialevents@law.utexas.edu no later than seven business days prior to the event.
X-ALT-DESC;FMTTYPE=text/html:<p>Panel on Practicing in Criminal Law. We're bringing together prosecutors and defense attorneys from various types of criminal practice to discuss their practice from a career exploration perspective, and answer student questions about practicing in criminal law.</p><p>If you need an accommodation to participate in this event, please contact the event
                                          event sponsor or the Texas Law Special Events Office at <a href="mailto:specialevents@law.utexas.edu">specialevents@law.utexas.edu</a> no later than seven business days prior to the event.</p>
CATEGORIES:Panel Discussion / Speaker Series
LOCATION:TNH 2.111 - Sheffield-Massey Room
URL:http://law.utexas.edu/calendar/2013/02/27/16052/
CLASS:PUBLIC
STATUS:CONFIRMED

END:VEVENT
END:VCALENDAR