BEGIN:VCALENDAR
VERSION:2.0
PRODID:-//UNIVERSITY OF TEXAS SCHOOL OF LAW//NONSGML Events Calendar v1.0//EN
X-WR-TIMEZONE:America/Chicago
BEGIN:VTIMEZONE
TZID:US/Central
X-LIC-LOCATION:America/Chicago
BEGIN:DAYLIGHT
TZOFFSETFROM:-0600
TZOFFSETTO:-0500
TZNAME:CDT
DTSTART:19700308T020000
RRULE:FREQ=YEARLY;BYMONTH=3;BYDAY=2SU
END:DAYLIGHT
BEGIN:STANDARD
TZOFFSETFROM:-0500
TZOFFSETTO:-0600
TZNAME:CST
DTSTART:19701101T020000
RRULE:FREQ=YEARLY;BYMONTH=11;BYDAY=1SU
END:STANDARD
END:VTIMEZONE
BEGIN:VEVENT
DTSTART;TZID=US/Central:20130227T114500
DTEND;VALUE=DATE-TIME;TZID=US/Central:20130227T124500

DTSTAMP:20260422T182100Z
CREATED:20130215T175500Z
LAST-MODIFIED:20130215T175600Z
UID:20130227T114500-16119@law.utexas.edu
SUMMARY:Inside Talk with Judge Edward Prado
DESCRIPTION:<p>Join Judge Edward Prado, U.S. Court of Appeals for the Fifth Circuit, for an informal discussion about judicial clerkships. Learn what judicial clerks do and how to best position yourself to become a clerk. Judge Prado will be joined by his current clerks:  Kate Nanney ’12, Anthony Arguijo ’11, Avis Bohen, and Joshua Weiss. Lunch will be served. Please RSVP by Tuesday, February 26, on <a title="UT Law Symplicity" href="https://law-utexas-csm.symplicity.com/students/">UT Law Symplicity</a> by selecting the “Events” tab.</p>\n\nIf you need an accommodation to participate in this event, please contact the event sponsor or the Texas Law Special Events Office at specialevents@law.utexas.edu no later than seven business days prior to the event.
X-ALT-DESC;FMTTYPE=text/html:<p>Join Judge Edward Prado, U.S. Court of Appeals for the Fifth Circuit, for an informal discussion about judicial clerkships. Learn what judicial clerks do and how to best position yourself to become a clerk. Judge Prado will be joined by his current clerks:  Kate Nanney ’12, Anthony Arguijo ’11, Avis Bohen, and Joshua Weiss. Lunch will be served. Please RSVP by Tuesday, February 26, on <a title="UT Law Symplicity" href="https://law-utexas-csm.symplicity.com/students/">UT Law Symplicity</a> by selecting the “Events” tab.</p><p>If you need an accommodation to participate in this event, please contact the event
                                          event sponsor or the Texas Law Special Events Office at <a href="mailto:specialevents@law.utexas.edu">specialevents@law.utexas.edu</a> no later than seven business days prior to the event.</p>

LOCATION:Career Services Interview Suite (TNH 3.122)
URL:http://law.utexas.edu/calendar/2013/02/27/16119/
CLASS:PUBLIC
STATUS:CONFIRMED
COMMENT:Please contact Remi Ratliff, Director of Judicial Programs, at 512-232-1163 or <a href="mailto:rrattliff@law.utexas.edu">rratliff@law.utexas.edu</a>.
END:VEVENT
END:VCALENDAR