BEGIN:VCALENDAR
VERSION:2.0
PRODID:-//UNIVERSITY OF TEXAS SCHOOL OF LAW//NONSGML Events Calendar v1.0//EN
X-WR-TIMEZONE:America/Chicago
BEGIN:VTIMEZONE
TZID:US/Central
X-LIC-LOCATION:America/Chicago
BEGIN:DAYLIGHT
TZOFFSETFROM:-0600
TZOFFSETTO:-0500
TZNAME:CDT
DTSTART:19700308T020000
RRULE:FREQ=YEARLY;BYMONTH=3;BYDAY=2SU
END:DAYLIGHT
BEGIN:STANDARD
TZOFFSETFROM:-0500
TZOFFSETTO:-0600
TZNAME:CST
DTSTART:19701101T020000
RRULE:FREQ=YEARLY;BYMONTH=11;BYDAY=1SU
END:STANDARD
END:VTIMEZONE
BEGIN:VEVENT
DTSTART;TZID=US/Central:20130227T154500
DTEND;VALUE=DATE-TIME;TZID=US/Central:20130227T164500

DTSTAMP:20260422T182100Z
CREATED:20130221T145100Z
LAST-MODIFIED:20130221T162200Z
UID:20130227T154500-16216@law.utexas.edu
SUMMARY:Practicing in Criminal Law
DESCRIPTION:<p>Interested in finding out more about practicing in criminal law, and how to connect with practitioners? Find out over Milk &amp; Tiff's Treats!</p>
  <p>Join the American Constitution Society (ACS), Public Interest Law Association (PILA), the American Journal of Criminal Law, and three fantastic local attorneys in a chat about a career in criminal law from defense, prosecution, and judicial perspectives. Panelists include Michelle Fernald, Deputy Chief of the United States Attorney's Office, Austin Office; Pamela Sigman, private practitioner with Sigman &amp; Sigman and Director of UT's Juvenile Justice Clinic; and Amanda Woog, Law Clerk for Judge Cheryl Johnson, Texas Court of Criminal Appeals. 
  </p>\n\nIf you need an accommodation to participate in this event, please contact the event sponsor or the Texas Law Special Events Office at specialevents@law.utexas.edu no later than seven business days prior to the event.
X-ALT-DESC;FMTTYPE=text/html:<p>Interested in finding out more about practicing in criminal law, and how to connect with practitioners? Find out over Milk &amp; Tiff's Treats!</p>
  <p>Join the American Constitution Society (ACS), Public Interest Law Association (PILA), the American Journal of Criminal Law, and three fantastic local attorneys in a chat about a career in criminal law from defense, prosecution, and judicial perspectives. Panelists include Michelle Fernald, Deputy Chief of the United States Attorney's Office, Austin Office; Pamela Sigman, private practitioner with Sigman &amp; Sigman and Director of UT's Juvenile Justice Clinic; and Amanda Woog, Law Clerk for Judge Cheryl Johnson, Texas Court of Criminal Appeals. 
  </p><p>If you need an accommodation to participate in this event, please contact the event
                                          event sponsor or the Texas Law Special Events Office at <a href="mailto:specialevents@law.utexas.edu">specialevents@law.utexas.edu</a> no later than seven business days prior to the event.</p>
CATEGORIES:Panel Discussion / Speaker Series
LOCATION:TNH 2.111 - Sheffield-Massey Room
URL:http://law.utexas.edu/calendar/2013/02/27/16216/
CLASS:PUBLIC
STATUS:CONFIRMED

END:VEVENT
END:VCALENDAR