BEGIN:VCALENDAR
VERSION:2.0
PRODID:-//UNIVERSITY OF TEXAS SCHOOL OF LAW//NONSGML Events Calendar v1.0//EN
X-WR-TIMEZONE:America/Chicago
BEGIN:VTIMEZONE
TZID:US/Central
X-LIC-LOCATION:America/Chicago
BEGIN:DAYLIGHT
TZOFFSETFROM:-0600
TZOFFSETTO:-0500
TZNAME:CDT
DTSTART:19700308T020000
RRULE:FREQ=YEARLY;BYMONTH=3;BYDAY=2SU
END:DAYLIGHT
BEGIN:STANDARD
TZOFFSETFROM:-0500
TZOFFSETTO:-0600
TZNAME:CST
DTSTART:19701101T020000
RRULE:FREQ=YEARLY;BYMONTH=11;BYDAY=1SU
END:STANDARD
END:VTIMEZONE
BEGIN:VEVENT
DTSTART;TZID=US/Central:20130228T150000
DTEND;VALUE=DATE-TIME;TZID=US/Central:20130228T170000

DTSTAMP:20260422T194800Z
CREATED:20130125T164200Z
LAST-MODIFIED:20130226T185700Z
UID:20130228T150000-15971@law.utexas.edu
SUMMARY:Ninth Tarlton Annual Rare Book Lecture
DESCRIPTION:<p>The Tarlton Law Library will present its ninth annual rare book lecture, "Evidence from the Fifteenth Century: Tarlton Law Library's Earliest Printed Books" on Thursday, February 28, 2013, at 3:00 p.m.  The talk features Dr. Eric White, Curator of Special Collections, Bridwell Library, Southern Methodist University.</p>\n\nIf you need an accommodation to participate in this event, please contact the event sponsor or the Texas Law Special Events Office at specialevents@law.utexas.edu no later than seven business days prior to the event.
X-ALT-DESC;FMTTYPE=text/html:<p>The Tarlton Law Library will present its ninth annual rare book lecture, "Evidence from the Fifteenth Century: Tarlton Law Library's Earliest Printed Books" on Thursday, February 28, 2013, at 3:00 p.m.  The talk features Dr. Eric White, Curator of Special Collections, Bridwell Library, Southern Methodist University.</p><p>If you need an accommodation to participate in this event, please contact the event
                                          event sponsor or the Texas Law Special Events Office at <a href="mailto:specialevents@law.utexas.edu">specialevents@law.utexas.edu</a> no later than seven business days prior to the event.</p>
CATEGORIES:Panel Discussion / Speaker Series
LOCATION:TNH 2.111 - Sheffield-Massey Room
URL:http://law.utexas.edu/calendar/2013/02/28/15971/
CLASS:PUBLIC
STATUS:CONFIRMED

END:VEVENT
END:VCALENDAR