BEGIN:VCALENDAR
VERSION:2.0
PRODID:-//UNIVERSITY OF TEXAS SCHOOL OF LAW//NONSGML Events Calendar v1.0//EN
X-WR-TIMEZONE:America/Chicago
BEGIN:VTIMEZONE
TZID:US/Central
X-LIC-LOCATION:America/Chicago
BEGIN:DAYLIGHT
TZOFFSETFROM:-0600
TZOFFSETTO:-0500
TZNAME:CDT
DTSTART:19700308T020000
RRULE:FREQ=YEARLY;BYMONTH=3;BYDAY=2SU
END:DAYLIGHT
BEGIN:STANDARD
TZOFFSETFROM:-0500
TZOFFSETTO:-0600
TZNAME:CST
DTSTART:19701101T020000
RRULE:FREQ=YEARLY;BYMONTH=11;BYDAY=1SU
END:STANDARD
END:VTIMEZONE
BEGIN:VEVENT
DTSTART;TZID=US/Central:20130228T190000
DTEND;VALUE=DATE-TIME;TZID=US/Central:20130228T213000

DTSTAMP:20260422T205600Z
CREATED:20130216T022500Z
LAST-MODIFIED:20130216T022500Z
UID:20130228T190000-16122@law.utexas.edu
SUMMARY:Assault &amp; Flattery presents
DESCRIPTION:<p>To celebrate our diamond anniversary, A&amp;F is bringing you our take on the revered classic, the story of Harry Potter. In Harry Potter and the Order of the Peregrinus, Harry and his motley crew of nerdy magic law students fight against the Slythegreens to secure the most desirable jobs that The Magic University of Texas Magic School of Magic Law can offer. Unfortunately, coming to the Slythegreens' aid is none other than Snemily Snadens, Voldemort's ally and the gatekeeper to the highly-sought-after judicial clerkships that all the magic law students sooooo covet. Only after watching the show will you discover who ultimately prevails in the job search! ...And also, who wouldn't want to see Assault &amp; Flattery ruin another one of your favorite stories?</p>\n\nIf you need an accommodation to participate in this event, please contact the event sponsor or the Texas Law Special Events Office at specialevents@law.utexas.edu no later than seven business days prior to the event.
X-ALT-DESC;FMTTYPE=text/html:<p>To celebrate our diamond anniversary, A&amp;F is bringing you our take on the revered classic, the story of Harry Potter. In Harry Potter and the Order of the Peregrinus, Harry and his motley crew of nerdy magic law students fight against the Slythegreens to secure the most desirable jobs that The Magic University of Texas Magic School of Magic Law can offer. Unfortunately, coming to the Slythegreens' aid is none other than Snemily Snadens, Voldemort's ally and the gatekeeper to the highly-sought-after judicial clerkships that all the magic law students sooooo covet. Only after watching the show will you discover who ultimately prevails in the job search! ...And also, who wouldn't want to see Assault &amp; Flattery ruin another one of your favorite stories?</p><p>If you need an accommodation to participate in this event, please contact the event
                                          event sponsor or the Texas Law Special Events Office at <a href="mailto:specialevents@law.utexas.edu">specialevents@law.utexas.edu</a> no later than seven business days prior to the event.</p>
CATEGORIES:Other
LOCATION:Utopia Theater - School of Social Work
URL:http://law.utexas.edu/calendar/2013/02/28/16122/
CLASS:PUBLIC
STATUS:CONFIRMED

END:VEVENT
END:VCALENDAR