BEGIN:VCALENDAR
VERSION:2.0
PRODID:-//UNIVERSITY OF TEXAS SCHOOL OF LAW//NONSGML Events Calendar v1.0//EN
X-WR-TIMEZONE:America/Chicago
BEGIN:VTIMEZONE
TZID:US/Central
X-LIC-LOCATION:America/Chicago
BEGIN:DAYLIGHT
TZOFFSETFROM:-0600
TZOFFSETTO:-0500
TZNAME:CDT
DTSTART:19700308T020000
RRULE:FREQ=YEARLY;BYMONTH=3;BYDAY=2SU
END:DAYLIGHT
BEGIN:STANDARD
TZOFFSETFROM:-0500
TZOFFSETTO:-0600
TZNAME:CST
DTSTART:19701101T020000
RRULE:FREQ=YEARLY;BYMONTH=11;BYDAY=1SU
END:STANDARD
END:VTIMEZONE
BEGIN:VEVENT
DTSTART;TZID=US/Central:20130301T113000
DTEND;VALUE=DATE-TIME;TZID=US/Central:20130301T123000

DTSTAMP:20260422T165500Z
CREATED:20130111T165900Z
LAST-MODIFIED:20130206T175600Z
UID:20130301T113000-15793@law.utexas.edu
SUMMARY:Texas Courts Judicial Clerkship Panel
DESCRIPTION:<p>A panel of judges from various Texas state courts will discuss judicial clerkships at their courts and what students can do to make themselves competitive clerkship candidates. Panelists include the <a href="http://www.supreme.courts.state.tx.us/court/justice_wjefferson.asp">Hon. Wallace Jefferson ’88</a>, Chief Justice, Supreme Court of Texas; the <a href="http://www.judgeelsaalcala.com/">Hon. Elsa Alcala</a>, Texas Court of Criminal Appeals; the <a href="http://www.1stcoa.courts.state.tx.us/court/justice_jbland.asp">Hon. Jane Bland ‘90</a>, Texas Court of Appeals, First District; and the <a href="http://www.4thcoa.courts.state.tx.us/court/justice_smarion.asp">Hon. Sandee Bryan Marion</a>, Texas Court of Appeals, Fourth District. RSVP by Thursday, February 28, on <a title="UT Law Symplicity" href="https://law-utexas-csm.symplicity.com/students/">UT Law Symplicity</a> by selecting the "Events" tab.</p>\n\nIf you need an accommodation to participate in this event, please contact the event sponsor or the Texas Law Special Events Office at specialevents@law.utexas.edu no later than seven business days prior to the event.
X-ALT-DESC;FMTTYPE=text/html:<p>A panel of judges from various Texas state courts will discuss judicial clerkships at their courts and what students can do to make themselves competitive clerkship candidates. Panelists include the <a href="http://www.supreme.courts.state.tx.us/court/justice_wjefferson.asp">Hon. Wallace Jefferson ’88</a>, Chief Justice, Supreme Court of Texas; the <a href="http://www.judgeelsaalcala.com/">Hon. Elsa Alcala</a>, Texas Court of Criminal Appeals; the <a href="http://www.1stcoa.courts.state.tx.us/court/justice_jbland.asp">Hon. Jane Bland ‘90</a>, Texas Court of Appeals, First District; and the <a href="http://www.4thcoa.courts.state.tx.us/court/justice_smarion.asp">Hon. Sandee Bryan Marion</a>, Texas Court of Appeals, Fourth District. RSVP by Thursday, February 28, on <a title="UT Law Symplicity" href="https://law-utexas-csm.symplicity.com/students/">UT Law Symplicity</a> by selecting the "Events" tab.</p><p>If you need an accommodation to participate in this event, please contact the event
                                          event sponsor or the Texas Law Special Events Office at <a href="mailto:specialevents@law.utexas.edu">specialevents@law.utexas.edu</a> no later than seven business days prior to the event.</p>

LOCATION:CCJ 2.306 - Eidman Courtroom
URL:http://law.utexas.edu/calendar/2013/03/01/15793/
CLASS:PUBLIC
STATUS:CONFIRMED
COMMENT:Please contact Remi Ratliff, Director of Judicial Programs, at 512-232-1163 or <a href="mailto:rrattliff@law.utexas.edu">rratliff@law.utexas.edu</a>.
END:VEVENT
END:VCALENDAR