BEGIN:VCALENDAR
VERSION:2.0
PRODID:-//UNIVERSITY OF TEXAS SCHOOL OF LAW//NONSGML Events Calendar v1.0//EN
X-WR-TIMEZONE:America/Chicago
BEGIN:VTIMEZONE
TZID:US/Central
X-LIC-LOCATION:America/Chicago
BEGIN:DAYLIGHT
TZOFFSETFROM:-0600
TZOFFSETTO:-0500
TZNAME:CDT
DTSTART:19700308T020000
RRULE:FREQ=YEARLY;BYMONTH=3;BYDAY=2SU
END:DAYLIGHT
BEGIN:STANDARD
TZOFFSETFROM:-0500
TZOFFSETTO:-0600
TZNAME:CST
DTSTART:19701101T020000
RRULE:FREQ=YEARLY;BYMONTH=11;BYDAY=1SU
END:STANDARD
END:VTIMEZONE
BEGIN:VEVENT
DTSTART;TZID=US/Central:20130301T113000
DTEND;VALUE=DATE-TIME;TZID=US/Central:20130301T123000

DTSTAMP:20260422T165400Z
CREATED:20130207T171400Z
LAST-MODIFIED:20130226T194600Z
UID:20130301T113000-16045@law.utexas.edu
SUMMARY:A Talk by Senator Salinas from Mexico
DESCRIPTION:<p>Senator Salinas is the Chair of the Environmental and Natural Resources Committee of the Mexican Senate and is a member of the Justice Committee, the Subcommittee on North American Affairs, and the Energy Committee.  She is a leading figure in Mexican Energy Policy.  Prior to her election to the Senate, Salinas served in the Mexican House of Representatives where she authored a number of important bills, including Mexico’s new Climate Change Law and a bill to increase investment in the Mexican Institute of Water Technology.   Senator Salinas is also a business woman, serving as an executive for various companies affiliated with the powerful Mexican conglomerate Grupo Salinas (second largest private company in Mexico), which owns a number of important businesses that participate in the television industry, the telecommunications sector, the banking and financial market.  She also serves as the Director of Energy and Sustainability for the conglomerate.</p>
  <p>LUNCH WILL BE PROVIDED</p>
  <p>
  RSVP to Gena Dawson gdawson@law.utexas.edu </p>\n\nIf you need an accommodation to participate in this event, please contact the event sponsor or the Texas Law Special Events Office at specialevents@law.utexas.edu no later than seven business days prior to the event.
X-ALT-DESC;FMTTYPE=text/html:<p>Senator Salinas is the Chair of the Environmental and Natural Resources Committee of the Mexican Senate and is a member of the Justice Committee, the Subcommittee on North American Affairs, and the Energy Committee.  She is a leading figure in Mexican Energy Policy.  Prior to her election to the Senate, Salinas served in the Mexican House of Representatives where she authored a number of important bills, including Mexico’s new Climate Change Law and a bill to increase investment in the Mexican Institute of Water Technology.   Senator Salinas is also a business woman, serving as an executive for various companies affiliated with the powerful Mexican conglomerate Grupo Salinas (second largest private company in Mexico), which owns a number of important businesses that participate in the television industry, the telecommunications sector, the banking and financial market.  She also serves as the Director of Energy and Sustainability for the conglomerate.</p>
  <p>LUNCH WILL BE PROVIDED</p>
  <p>
  RSVP to Gena Dawson gdawson@law.utexas.edu </p><p>If you need an accommodation to participate in this event, please contact the event
                                          event sponsor or the Texas Law Special Events Office at <a href="mailto:specialevents@law.utexas.edu">specialevents@law.utexas.edu</a> no later than seven business days prior to the event.</p>
CATEGORIES:Panel Discussion / Speaker Series
LOCATION:JON 5.206 - Susman Academic Center, Bryan and Michelle Goolsby Conference Suite (5.206 / 5.207)
URL:http://law.utexas.edu/calendar/2013/03/01/16045/
CLASS:PUBLIC
STATUS:CONFIRMED

END:VEVENT
END:VCALENDAR