BEGIN:VCALENDAR
VERSION:2.0
PRODID:-//UNIVERSITY OF TEXAS SCHOOL OF LAW//NONSGML Events Calendar v1.0//EN
X-WR-TIMEZONE:America/Chicago
BEGIN:VTIMEZONE
TZID:US/Central
X-LIC-LOCATION:America/Chicago
BEGIN:DAYLIGHT
TZOFFSETFROM:-0600
TZOFFSETTO:-0500
TZNAME:CDT
DTSTART:19700308T020000
RRULE:FREQ=YEARLY;BYMONTH=3;BYDAY=2SU
END:DAYLIGHT
BEGIN:STANDARD
TZOFFSETFROM:-0500
TZOFFSETTO:-0600
TZNAME:CST
DTSTART:19701101T020000
RRULE:FREQ=YEARLY;BYMONTH=11;BYDAY=1SU
END:STANDARD
END:VTIMEZONE
BEGIN:VEVENT
DTSTART;TZID=US/Central:20130302


DTSTAMP:20260422T165500Z
CREATED:20120502T172300Z
LAST-MODIFIED:20120502T174100Z
UID:20130302T000000-14377@law.utexas.edu
SUMMARY:'13 Federalist Society Student Symposium
DESCRIPTION:<p>For details regarding this event please contact Meaghan K. Goldner, President, Texas Federalist Society at (412) 841-3557 or meaghan.goldner@gmail.com.</p>\n\nIf you need an accommodation to participate in this event, please contact the event sponsor or the Texas Law Special Events Office at specialevents@law.utexas.edu no later than seven business days prior to the event.
X-ALT-DESC;FMTTYPE=text/html:<p>For details regarding this event please contact Meaghan K. Goldner, President, Texas Federalist Society at (412) 841-3557 or meaghan.goldner@gmail.com.</p><p>If you need an accommodation to participate in this event, please contact the event
                                          event sponsor or the Texas Law Special Events Office at <a href="mailto:specialevents@law.utexas.edu">specialevents@law.utexas.edu</a> no later than seven business days prior to the event.</p>
CATEGORIES:Symposium

URL:http://law.utexas.edu/calendar/2013/03/02/14377/
CLASS:PUBLIC
STATUS:CONFIRMED
COMMENT:Please contact Meaghan K. Goldner, President, Texas Federalist Society at <a href="mailto:%20meaghan.goldner@gmail.com">meaghan.goldner@gmail.com.</a>
END:VEVENT
END:VCALENDAR