BEGIN:VCALENDAR
VERSION:2.0
PRODID:-//UNIVERSITY OF TEXAS SCHOOL OF LAW//NONSGML Events Calendar v1.0//EN
X-WR-TIMEZONE:America/Chicago
BEGIN:VTIMEZONE
TZID:US/Central
X-LIC-LOCATION:America/Chicago
BEGIN:DAYLIGHT
TZOFFSETFROM:-0600
TZOFFSETTO:-0500
TZNAME:CDT
DTSTART:19700308T020000
RRULE:FREQ=YEARLY;BYMONTH=3;BYDAY=2SU
END:DAYLIGHT
BEGIN:STANDARD
TZOFFSETFROM:-0500
TZOFFSETTO:-0600
TZNAME:CST
DTSTART:19701101T020000
RRULE:FREQ=YEARLY;BYMONTH=11;BYDAY=1SU
END:STANDARD
END:VTIMEZONE
BEGIN:VEVENT
DTSTART;TZID=US/Central:20130305T120000
DTEND;VALUE=DATE-TIME;TZID=US/Central:20130305T130000

DTSTAMP:20260422T165500Z
CREATED:20130219T172100Z
LAST-MODIFIED:20130305T170700Z
UID:20130305T120000-16177@law.utexas.edu
SUMMARY:Groundwater Availability A Matter of Law
DESCRIPTION:<p>A discussion of the statutory model for quantifying the resource and determining water availability and implications of state water planning and Federal action under the Endangered Species Act</p>
  <p>Mike Gershon is a partner at the environmental law firm of Lloyd Gosselink. He is General Counsel to several groundwater conservation districts, and represents several cities and utilities, and many landowners and businesses. Mike also works on endangered species issues, primarily involving species that depend upon spring flow.    </p>
  <p>LUNCH WILL BE PROVIDED
  RSVP to Gena Dawson at gdawson@law.utexas.edu </p>\n\nIf you need an accommodation to participate in this event, please contact the event sponsor or the Texas Law Special Events Office at specialevents@law.utexas.edu no later than seven business days prior to the event.
X-ALT-DESC;FMTTYPE=text/html:<p>A discussion of the statutory model for quantifying the resource and determining water availability and implications of state water planning and Federal action under the Endangered Species Act</p>
  <p>Mike Gershon is a partner at the environmental law firm of Lloyd Gosselink. He is General Counsel to several groundwater conservation districts, and represents several cities and utilities, and many landowners and businesses. Mike also works on endangered species issues, primarily involving species that depend upon spring flow.    </p>
  <p>LUNCH WILL BE PROVIDED
  RSVP to Gena Dawson at gdawson@law.utexas.edu </p><p>If you need an accommodation to participate in this event, please contact the event
                                          event sponsor or the Texas Law Special Events Office at <a href="mailto:specialevents@law.utexas.edu">specialevents@law.utexas.edu</a> no later than seven business days prior to the event.</p>
CATEGORIES:Lunch
LOCATION:TNH 3.129 - Atlas Seminar Room
URL:http://law.utexas.edu/calendar/2013/03/05/16177/
CLASS:PUBLIC
STATUS:CONFIRMED

END:VEVENT
END:VCALENDAR