BEGIN:VCALENDAR
VERSION:2.0
PRODID:-//UNIVERSITY OF TEXAS SCHOOL OF LAW//NONSGML Events Calendar v1.0//EN
X-WR-TIMEZONE:America/Chicago
BEGIN:VTIMEZONE
TZID:US/Central
X-LIC-LOCATION:America/Chicago
BEGIN:DAYLIGHT
TZOFFSETFROM:-0600
TZOFFSETTO:-0500
TZNAME:CDT
DTSTART:19700308T020000
RRULE:FREQ=YEARLY;BYMONTH=3;BYDAY=2SU
END:DAYLIGHT
BEGIN:STANDARD
TZOFFSETFROM:-0500
TZOFFSETTO:-0600
TZNAME:CST
DTSTART:19701101T020000
RRULE:FREQ=YEARLY;BYMONTH=11;BYDAY=1SU
END:STANDARD
END:VTIMEZONE
BEGIN:VEVENT
DTSTART;TZID=US/Central:20130305T130000
DTEND;VALUE=DATE-TIME;TZID=US/Central:20130305T150000

DTSTAMP:20260422T180800Z
CREATED:20130301T165000Z
LAST-MODIFIED:20130301T165000Z
UID:20130305T130000-16267@law.utexas.edu
SUMMARY:Power and Accountability: Post 9/11
DESCRIPTION:<p>In a post-9/11 world, the War on Terror has raised a number of challenging issues for the U.S.  Foremost among these issues has been the size and reach of executive power, and the 'creep' of national policy to the state and local levels.   No topics better symbolize this dilemma of executive power facing the nation than the systematic use of torture under President Bush, the targeted killing drone program under President Obama, and the expansion of the drone program into the arena of domestic surveillance.  Come and join Shahid Buttar as he discusses executive power and accountability through the prisms of torture and drones. </p>
  <p>Shahid Buttar is the executive director of the Bill of Rights Defense Committee and the People’s Campaign for the Constitution.  Mr. Buttar leads these groups’ efforts to defend civil liberties, constitutional rights, and rule of law principles threatened within the United States by law enforcement and intelligence agencies. A graduate of Stanford Law School, Mr. Buttar is a constitutional lawyer, grassroots organizer, independent columnist, musician, poet, and a leading national commentator on issues related to executive authority, transparency, and accountability.</p>\n\nIf you need an accommodation to participate in this event, please contact the event sponsor or the Texas Law Special Events Office at specialevents@law.utexas.edu no later than seven business days prior to the event.
X-ALT-DESC;FMTTYPE=text/html:<p>In a post-9/11 world, the War on Terror has raised a number of challenging issues for the U.S.  Foremost among these issues has been the size and reach of executive power, and the 'creep' of national policy to the state and local levels.   No topics better symbolize this dilemma of executive power facing the nation than the systematic use of torture under President Bush, the targeted killing drone program under President Obama, and the expansion of the drone program into the arena of domestic surveillance.  Come and join Shahid Buttar as he discusses executive power and accountability through the prisms of torture and drones. </p>
  <p>Shahid Buttar is the executive director of the Bill of Rights Defense Committee and the People’s Campaign for the Constitution.  Mr. Buttar leads these groups’ efforts to defend civil liberties, constitutional rights, and rule of law principles threatened within the United States by law enforcement and intelligence agencies. A graduate of Stanford Law School, Mr. Buttar is a constitutional lawyer, grassroots organizer, independent columnist, musician, poet, and a leading national commentator on issues related to executive authority, transparency, and accountability.</p><p>If you need an accommodation to participate in this event, please contact the event
                                          event sponsor or the Texas Law Special Events Office at <a href="mailto:specialevents@law.utexas.edu">specialevents@law.utexas.edu</a> no later than seven business days prior to the event.</p>
CATEGORIES:Panel Discussion / Speaker Series
LOCATION:CCJ 2.306 - Eidman Courtroom
URL:http://law.utexas.edu/calendar/2013/03/05/16267/
CLASS:PUBLIC
STATUS:CONFIRMED

END:VEVENT
END:VCALENDAR