BEGIN:VCALENDAR
VERSION:2.0
PRODID:-//UNIVERSITY OF TEXAS SCHOOL OF LAW//NONSGML Events Calendar v1.0//EN
X-WR-TIMEZONE:America/Chicago
BEGIN:VTIMEZONE
TZID:US/Central
X-LIC-LOCATION:America/Chicago
BEGIN:DAYLIGHT
TZOFFSETFROM:-0600
TZOFFSETTO:-0500
TZNAME:CDT
DTSTART:19700308T020000
RRULE:FREQ=YEARLY;BYMONTH=3;BYDAY=2SU
END:DAYLIGHT
BEGIN:STANDARD
TZOFFSETFROM:-0500
TZOFFSETTO:-0600
TZNAME:CST
DTSTART:19701101T020000
RRULE:FREQ=YEARLY;BYMONTH=11;BYDAY=1SU
END:STANDARD
END:VTIMEZONE
BEGIN:VEVENT
DTSTART;TZID=US/Central:20130306T153000
DTEND;VALUE=DATE-TIME;TZID=US/Central:20130306T170000

DTSTAMP:20260422T180800Z
CREATED:20130205T195900Z
LAST-MODIFIED:20130228T201900Z
UID:20130306T153000-16032@law.utexas.edu
SUMMARY:Federalist Society hosts Greg Katsas
DESCRIPTION:<p>Join the Federalist Society to hear Greg Katsas discuss the Affordable Care Act's impact on commerce power and spending power jurisprudence.
  Mr. Katsas is a partner at Jones Day, and one of their most experienced appellate attorneys. He has argued before every federal appellate court, including the U.S. Supreme Court where he recently briefed and argued last year's landmark Obamacare case. Mr. Katsas is a former clerk of Justice Thomas on both the D.C. Circuit and the Supreme Court.
  </p>\n\nIf you need an accommodation to participate in this event, please contact the event sponsor or the Texas Law Special Events Office at specialevents@law.utexas.edu no later than seven business days prior to the event.
X-ALT-DESC;FMTTYPE=text/html:<p>Join the Federalist Society to hear Greg Katsas discuss the Affordable Care Act's impact on commerce power and spending power jurisprudence.
  Mr. Katsas is a partner at Jones Day, and one of their most experienced appellate attorneys. He has argued before every federal appellate court, including the U.S. Supreme Court where he recently briefed and argued last year's landmark Obamacare case. Mr. Katsas is a former clerk of Justice Thomas on both the D.C. Circuit and the Supreme Court.
  </p><p>If you need an accommodation to participate in this event, please contact the event
                                          event sponsor or the Texas Law Special Events Office at <a href="mailto:specialevents@law.utexas.edu">specialevents@law.utexas.edu</a> no later than seven business days prior to the event.</p>
CATEGORIES:Panel Discussion / Speaker Series
LOCATION:TNH 2.140 - Wright Classroom
URL:http://law.utexas.edu/calendar/2013/03/06/16032/
CLASS:PUBLIC
STATUS:CONFIRMED

END:VEVENT
END:VCALENDAR