BEGIN:VCALENDAR
VERSION:2.0
PRODID:-//UNIVERSITY OF TEXAS SCHOOL OF LAW//NONSGML Events Calendar v1.0//EN
X-WR-TIMEZONE:America/Chicago
BEGIN:VTIMEZONE
TZID:US/Central
X-LIC-LOCATION:America/Chicago
BEGIN:DAYLIGHT
TZOFFSETFROM:-0600
TZOFFSETTO:-0500
TZNAME:CDT
DTSTART:19700308T020000
RRULE:FREQ=YEARLY;BYMONTH=3;BYDAY=2SU
END:DAYLIGHT
BEGIN:STANDARD
TZOFFSETFROM:-0500
TZOFFSETTO:-0600
TZNAME:CST
DTSTART:19701101T020000
RRULE:FREQ=YEARLY;BYMONTH=11;BYDAY=1SU
END:STANDARD
END:VTIMEZONE
BEGIN:VEVENT
DTSTART;TZID=US/Central:20130306T180000
DTEND;VALUE=DATE-TIME;TZID=US/Central:20130306T200000

DTSTAMP:20260422T180800Z
CREATED:20130302T180400Z
LAST-MODIFIED:20130302T180400Z
UID:20130306T180000-16268@law.utexas.edu
SUMMARY:PILA Potluck!
DESCRIPTION:<p>Hi y’all!</p>
  <p>Join us this Wednesday March 6, 2013 at 6:00PM for PILA’s first Potluck of the semester. Two clinical professors Bill Allison and Jeana Lungwitz will be our guests for the evening (Professor Ariel Dulitzky may also join). This will be a great opportunity to learn more about some really great clinics. Get excited! We look forward to seeing you there!    </p>
  <p>Bill Allison is a Clinical Professor of Law, Director of the Criminal Defense Clinic and Co-director of the Actual Innocence Clinic. He is a Board Certified Specialist in Criminal Law from the Texas Board of Legal Specialization. In recent years, Bill Allison and a team of lawyers won the release of a young man who had spent more than 12 years in prison for a murder he did not commit. Recently, he was part of the team that won a $5.3 million civil rights settlement for one of these exonerated individuals.  </p>
  <p>Jeana Lungwitz is a Clinical Professor in the Domestic Violence Clinic. She began her work with victims of domestic violence volunteering at the Center for Battered Women (currently Safeplace) in Austin, Texas in 1991, Later on, she went to work as a Family Violence Staff Attorney with the Texas Advocacy Project, Inc. (formerly the Women’s Advocacy Project), a non-profit legal corporation. </p>
  <p>
  DATE: Wednesday March 6, 2013
  TIME: 6:00-8PM
  LOCATION: 1807 Salina St. Austin, TX 78702
  CONTACT: Abby (512) 767-5240
  FOOD: PILA will provide the main dish. Please feel free to bring drinks and snacks.
   
  </p>\n\nIf you need an accommodation to participate in this event, please contact the event sponsor or the Texas Law Special Events Office at specialevents@law.utexas.edu no later than seven business days prior to the event.
X-ALT-DESC;FMTTYPE=text/html:<p>Hi y’all!</p>
  <p>Join us this Wednesday March 6, 2013 at 6:00PM for PILA’s first Potluck of the semester. Two clinical professors Bill Allison and Jeana Lungwitz will be our guests for the evening (Professor Ariel Dulitzky may also join). This will be a great opportunity to learn more about some really great clinics. Get excited! We look forward to seeing you there!    </p>
  <p>Bill Allison is a Clinical Professor of Law, Director of the Criminal Defense Clinic and Co-director of the Actual Innocence Clinic. He is a Board Certified Specialist in Criminal Law from the Texas Board of Legal Specialization. In recent years, Bill Allison and a team of lawyers won the release of a young man who had spent more than 12 years in prison for a murder he did not commit. Recently, he was part of the team that won a $5.3 million civil rights settlement for one of these exonerated individuals.  </p>
  <p>Jeana Lungwitz is a Clinical Professor in the Domestic Violence Clinic. She began her work with victims of domestic violence volunteering at the Center for Battered Women (currently Safeplace) in Austin, Texas in 1991, Later on, she went to work as a Family Violence Staff Attorney with the Texas Advocacy Project, Inc. (formerly the Women’s Advocacy Project), a non-profit legal corporation. </p>
  <p>
  DATE: Wednesday March 6, 2013
  TIME: 6:00-8PM
  LOCATION: 1807 Salina St. Austin, TX 78702
  CONTACT: Abby (512) 767-5240
  FOOD: PILA will provide the main dish. Please feel free to bring drinks and snacks.
   
  </p><p>If you need an accommodation to participate in this event, please contact the event
                                          event sponsor or the Texas Law Special Events Office at <a href="mailto:specialevents@law.utexas.edu">specialevents@law.utexas.edu</a> no later than seven business days prior to the event.</p>


URL:http://law.utexas.edu/calendar/2013/03/06/16268/
CLASS:PUBLIC
STATUS:CONFIRMED

END:VEVENT
END:VCALENDAR