BEGIN:VCALENDAR
VERSION:2.0
PRODID:-//UNIVERSITY OF TEXAS SCHOOL OF LAW//NONSGML Events Calendar v1.0//EN
X-WR-TIMEZONE:America/Chicago
BEGIN:VTIMEZONE
TZID:US/Central
X-LIC-LOCATION:America/Chicago
BEGIN:DAYLIGHT
TZOFFSETFROM:-0600
TZOFFSETTO:-0500
TZNAME:CDT
DTSTART:19700308T020000
RRULE:FREQ=YEARLY;BYMONTH=3;BYDAY=2SU
END:DAYLIGHT
BEGIN:STANDARD
TZOFFSETFROM:-0500
TZOFFSETTO:-0600
TZNAME:CST
DTSTART:19701101T020000
RRULE:FREQ=YEARLY;BYMONTH=11;BYDAY=1SU
END:STANDARD
END:VTIMEZONE
BEGIN:VEVENT
DTSTART;TZID=US/Central:20130318T120000


DTSTAMP:20260422T182200Z
CREATED:20130205T200200Z
LAST-MODIFIED:20130205T200200Z
UID:20130318T120000-16033@law.utexas.edu
SUMMARY:Changes in TX After Affordable Care Act
DESCRIPTION:<p>The Health Law &amp; Bioethics Society and Federalist Society will host Ms. Ann Dunkelberg from the Center for Public Policy Priorities and Mrs. Arlene Wohlgemuth from the Texas Public Policy Foundation.  Ms. Dunkelberg and Mrs. Wohlgemuth will speak on the policies the State of Texas envisions in light of the Affordable Care Act.  Professor Bill Sage will moderate.</p>\n\nIf you need an accommodation to participate in this event, please contact the event sponsor or the Texas Law Special Events Office at specialevents@law.utexas.edu no later than seven business days prior to the event.
X-ALT-DESC;FMTTYPE=text/html:<p>The Health Law &amp; Bioethics Society and Federalist Society will host Ms. Ann Dunkelberg from the Center for Public Policy Priorities and Mrs. Arlene Wohlgemuth from the Texas Public Policy Foundation.  Ms. Dunkelberg and Mrs. Wohlgemuth will speak on the policies the State of Texas envisions in light of the Affordable Care Act.  Professor Bill Sage will moderate.</p><p>If you need an accommodation to participate in this event, please contact the event
                                          event sponsor or the Texas Law Special Events Office at <a href="mailto:specialevents@law.utexas.edu">specialevents@law.utexas.edu</a> no later than seven business days prior to the event.</p>
CATEGORIES:Panel Discussion / Speaker Series

URL:http://law.utexas.edu/calendar/2013/03/18/16033/
CLASS:PUBLIC
STATUS:CONFIRMED

END:VEVENT
END:VCALENDAR