BEGIN:VCALENDAR
VERSION:2.0
PRODID:-//UNIVERSITY OF TEXAS SCHOOL OF LAW//NONSGML Events Calendar v1.0//EN
X-WR-TIMEZONE:America/Chicago
BEGIN:VTIMEZONE
TZID:US/Central
X-LIC-LOCATION:America/Chicago
BEGIN:DAYLIGHT
TZOFFSETFROM:-0600
TZOFFSETTO:-0500
TZNAME:CDT
DTSTART:19700308T020000
RRULE:FREQ=YEARLY;BYMONTH=3;BYDAY=2SU
END:DAYLIGHT
BEGIN:STANDARD
TZOFFSETFROM:-0500
TZOFFSETTO:-0600
TZNAME:CST
DTSTART:19701101T020000
RRULE:FREQ=YEARLY;BYMONTH=11;BYDAY=1SU
END:STANDARD
END:VTIMEZONE
BEGIN:VEVENT
DTSTART;TZID=US/Central:20130318
DTEND;TZID=US/Central:20130319
X-MICROSOFT-CDO-ALLDAYEVENT:TRUE
X-FUNAMBOL-ALLDAY:TRUE
DTSTAMP:20260422T180800Z
CREATED:20130227T214700Z
LAST-MODIFIED:20130227T214700Z
UID:20130318T000000-16265@law.utexas.edu
SUMMARY:TELJ Spring Write On &amp; Board Application
DESCRIPTION:<p>March 18th is the deadline for all law students interested in joining TELJ to submit their spring write on materials. </p>
  <p>March 18th is also the deadline for current TELJ members interested in serving on the 2013-2014 board to submit their applications.  </p>\n\nIf you need an accommodation to participate in this event, please contact the event sponsor or the Texas Law Special Events Office at specialevents@law.utexas.edu no later than seven business days prior to the event.
X-ALT-DESC;FMTTYPE=text/html:<p>March 18th is the deadline for all law students interested in joining TELJ to submit their spring write on materials. </p>
  <p>March 18th is also the deadline for current TELJ members interested in serving on the 2013-2014 board to submit their applications.  </p><p>If you need an accommodation to participate in this event, please contact the event
                                          event sponsor or the Texas Law Special Events Office at <a href="mailto:specialevents@law.utexas.edu">specialevents@law.utexas.edu</a> no later than seven business days prior to the event.</p>
CATEGORIES:Other

URL:http://law.utexas.edu/calendar/2013/03/18/16265/
CLASS:PUBLIC
STATUS:CONFIRMED

END:VEVENT
END:VCALENDAR