BEGIN:VCALENDAR
VERSION:2.0
PRODID:-//UNIVERSITY OF TEXAS SCHOOL OF LAW//NONSGML Events Calendar v1.0//EN
X-WR-TIMEZONE:America/Chicago
BEGIN:VTIMEZONE
TZID:US/Central
X-LIC-LOCATION:America/Chicago
BEGIN:DAYLIGHT
TZOFFSETFROM:-0600
TZOFFSETTO:-0500
TZNAME:CDT
DTSTART:19700308T020000
RRULE:FREQ=YEARLY;BYMONTH=3;BYDAY=2SU
END:DAYLIGHT
BEGIN:STANDARD
TZOFFSETFROM:-0500
TZOFFSETTO:-0600
TZNAME:CST
DTSTART:19701101T020000
RRULE:FREQ=YEARLY;BYMONTH=11;BYDAY=1SU
END:STANDARD
END:VTIMEZONE
BEGIN:VEVENT
DTSTART;TZID=US/Central:20130319T114500
DTEND;VALUE=DATE-TIME;TZID=US/Central:20130319T134500

DTSTAMP:20260422T180800Z
CREATED:20121207T220900Z
LAST-MODIFIED:20121211T145200Z
UID:20130319T114500-15592@law.utexas.edu
SUMMARY:Lives in the Law: Vanita Gupta
DESCRIPTION:<p>Vanita Gupta, Deputy Legal Director of the ACLU and Director of the ACLU’s Center for Justice, will speak on her life in the law. Lunch will be served. Co-sponsored by the William Wayne Justice Center for Public Interest Law and Career Services Office. </p>
  <p>11:45 - 12:45, Eidman Courtroom</p>
  <p>12:45 - 1:45, Jury Room</p>
  <p>Pizza served between sessions</p>\n\nIf you need an accommodation to participate in this event, please contact the event sponsor or the Texas Law Special Events Office at specialevents@law.utexas.edu no later than seven business days prior to the event.
X-ALT-DESC;FMTTYPE=text/html:<p>Vanita Gupta, Deputy Legal Director of the ACLU and Director of the ACLU’s Center for Justice, will speak on her life in the law. Lunch will be served. Co-sponsored by the William Wayne Justice Center for Public Interest Law and Career Services Office. </p>
  <p>11:45 - 12:45, Eidman Courtroom</p>
  <p>12:45 - 1:45, Jury Room</p>
  <p>Pizza served between sessions</p><p>If you need an accommodation to participate in this event, please contact the event
                                          event sponsor or the Texas Law Special Events Office at <a href="mailto:specialevents@law.utexas.edu">specialevents@law.utexas.edu</a> no later than seven business days prior to the event.</p>
CATEGORIES:Other
LOCATION:CCJ 2.306 - Eidman Courtroom
URL:http://law.utexas.edu/calendar/2013/03/19/15592/
CLASS:PUBLIC
STATUS:CONFIRMED

END:VEVENT
END:VCALENDAR