BEGIN:VCALENDAR
VERSION:2.0
PRODID:-//UNIVERSITY OF TEXAS SCHOOL OF LAW//NONSGML Events Calendar v1.0//EN
X-WR-TIMEZONE:America/Chicago
BEGIN:VTIMEZONE
TZID:US/Central
X-LIC-LOCATION:America/Chicago
BEGIN:DAYLIGHT
TZOFFSETFROM:-0600
TZOFFSETTO:-0500
TZNAME:CDT
DTSTART:19700308T020000
RRULE:FREQ=YEARLY;BYMONTH=3;BYDAY=2SU
END:DAYLIGHT
BEGIN:STANDARD
TZOFFSETFROM:-0500
TZOFFSETTO:-0600
TZNAME:CST
DTSTART:19701101T020000
RRULE:FREQ=YEARLY;BYMONTH=11;BYDAY=1SU
END:STANDARD
END:VTIMEZONE
BEGIN:VEVENT
DTSTART;TZID=US/Central:20130319T120000
DTEND;VALUE=DATE-TIME;TZID=US/Central:20130319T130000

DTSTAMP:20260422T165500Z
CREATED:20121211T190000Z
LAST-MODIFIED:20130318T191900Z
UID:20130319T120000-15611@law.utexas.edu
SUMMARY:Careers in International Law
DESCRIPTION:<p>The <a title="International Law Section of the State Bar of Texas" href="http://www.ilstexas.org/">International Law Section of the State Bar of Texas</a> will be presenting a panel of top lawyers who practice international law in a variety of settings. Come learn the different paths each of the participants took out of law school to become international lawyers. Panelists include <a href="http://www.andrewskurth.com/people-GeorgeHumphrey.html">George Humphrey</a>, Partner, Andrews Kurth LLP; <a href="http://www.dbcslaw.com/attorneys/martin_lutz">Martin Lutz</a>, Partner, DuBois, Bryant &amp; Campbell, L.L.P.; <a href="http://www.outsourcegc.com/attorneys/austin/kristen-n-geyer/">Kristen Geyer</a>, Partner, Phillips &amp; Reiter, PLLC; and <a href="http://www.jw.com/Salvador_D_Castaneda/">Salvador Castaneda</a>, Associate, Jackson Walker LLP.  Learn about what their practice is like (big firm and boutique) and learn the pros and cons of practicing international law. The presentation will be informal with ample opportunity for questions and to meet the participants. If you are interested in international law, don’t miss this presentation! Lunch will be served. RSVP by Monday, March 18, on <a title="UT Law Symplicity" href="https://law-utexas-csm.symplicity.com/students/">UT Law Symplicity</a> by selecting the "Events" tab.</p>\n\nIf you need an accommodation to participate in this event, please contact the event sponsor or the Texas Law Special Events Office at specialevents@law.utexas.edu no later than seven business days prior to the event.
X-ALT-DESC;FMTTYPE=text/html:<p>The <a title="International Law Section of the State Bar of Texas" href="http://www.ilstexas.org/">International Law Section of the State Bar of Texas</a> will be presenting a panel of top lawyers who practice international law in a variety of settings. Come learn the different paths each of the participants took out of law school to become international lawyers. Panelists include <a href="http://www.andrewskurth.com/people-GeorgeHumphrey.html">George Humphrey</a>, Partner, Andrews Kurth LLP; <a href="http://www.dbcslaw.com/attorneys/martin_lutz">Martin Lutz</a>, Partner, DuBois, Bryant &amp; Campbell, L.L.P.; <a href="http://www.outsourcegc.com/attorneys/austin/kristen-n-geyer/">Kristen Geyer</a>, Partner, Phillips &amp; Reiter, PLLC; and <a href="http://www.jw.com/Salvador_D_Castaneda/">Salvador Castaneda</a>, Associate, Jackson Walker LLP.  Learn about what their practice is like (big firm and boutique) and learn the pros and cons of practicing international law. The presentation will be informal with ample opportunity for questions and to meet the participants. If you are interested in international law, don’t miss this presentation! Lunch will be served. RSVP by Monday, March 18, on <a title="UT Law Symplicity" href="https://law-utexas-csm.symplicity.com/students/">UT Law Symplicity</a> by selecting the "Events" tab.</p><p>If you need an accommodation to participate in this event, please contact the event
                                          event sponsor or the Texas Law Special Events Office at <a href="mailto:specialevents@law.utexas.edu">specialevents@law.utexas.edu</a> no later than seven business days prior to the event.</p>
CATEGORIES:Panel Discussion / Speaker Series
LOCATION:TNH 2.123 - Beck Classroom
URL:http://law.utexas.edu/calendar/2013/03/19/15611/
CLASS:PUBLIC
STATUS:CONFIRMED
COMMENT:Please contact Angelica Salinas Evans, Associate Director of Career Services, at <a href="mailto:aevans@law.utexas.edu">aevans@law.utexas.edu</a> in the CSO.
END:VEVENT
END:VCALENDAR