BEGIN:VCALENDAR
VERSION:2.0
PRODID:-//UNIVERSITY OF TEXAS SCHOOL OF LAW//NONSGML Events Calendar v1.0//EN
X-WR-TIMEZONE:America/Chicago
BEGIN:VTIMEZONE
TZID:US/Central
X-LIC-LOCATION:America/Chicago
BEGIN:DAYLIGHT
TZOFFSETFROM:-0600
TZOFFSETTO:-0500
TZNAME:CDT
DTSTART:19700308T020000
RRULE:FREQ=YEARLY;BYMONTH=3;BYDAY=2SU
END:DAYLIGHT
BEGIN:STANDARD
TZOFFSETFROM:-0500
TZOFFSETTO:-0600
TZNAME:CST
DTSTART:19701101T020000
RRULE:FREQ=YEARLY;BYMONTH=11;BYDAY=1SU
END:STANDARD
END:VTIMEZONE
BEGIN:VEVENT
DTSTART;TZID=US/Central:20130319T120000
DTEND;VALUE=DATE-TIME;TZID=US/Central:20130319T130000

DTSTAMP:20260422T194900Z
CREATED:20130219T171700Z
LAST-MODIFIED:20130318T163000Z
UID:20130319T120000-16176@law.utexas.edu
SUMMARY:The Future of TX Groundwater Management
DESCRIPTION:<p>Ronald Kaiser is Professor and Chair of the Texas A&amp;M University Water Program, Professor of Recreation, Park &amp; Tourism Science and Adjunct Professor of Maritime Studies Texas A&amp;M Galveston. His research involves the integration of economics, engineering, and environmental science with law, policy analysis, and planning.</p>\n\nIf you need an accommodation to participate in this event, please contact the event sponsor or the Texas Law Special Events Office at specialevents@law.utexas.edu no later than seven business days prior to the event.
X-ALT-DESC;FMTTYPE=text/html:<p>Ronald Kaiser is Professor and Chair of the Texas A&amp;M University Water Program, Professor of Recreation, Park &amp; Tourism Science and Adjunct Professor of Maritime Studies Texas A&amp;M Galveston. His research involves the integration of economics, engineering, and environmental science with law, policy analysis, and planning.</p><p>If you need an accommodation to participate in this event, please contact the event
                                          event sponsor or the Texas Law Special Events Office at <a href="mailto:specialevents@law.utexas.edu">specialevents@law.utexas.edu</a> no later than seven business days prior to the event.</p>
CATEGORIES:Lunch
LOCATION:TNH 3.124 - Neathery Classroom
URL:http://law.utexas.edu/calendar/2013/03/19/16176/
CLASS:PUBLIC
STATUS:CONFIRMED

END:VEVENT
END:VCALENDAR