BEGIN:VCALENDAR
VERSION:2.0
PRODID:-//UNIVERSITY OF TEXAS SCHOOL OF LAW//NONSGML Events Calendar v1.0//EN
X-WR-TIMEZONE:America/Chicago
BEGIN:VTIMEZONE
TZID:US/Central
X-LIC-LOCATION:America/Chicago
BEGIN:DAYLIGHT
TZOFFSETFROM:-0600
TZOFFSETTO:-0500
TZNAME:CDT
DTSTART:19700308T020000
RRULE:FREQ=YEARLY;BYMONTH=3;BYDAY=2SU
END:DAYLIGHT
BEGIN:STANDARD
TZOFFSETFROM:-0500
TZOFFSETTO:-0600
TZNAME:CST
DTSTART:19701101T020000
RRULE:FREQ=YEARLY;BYMONTH=11;BYDAY=1SU
END:STANDARD
END:VTIMEZONE
BEGIN:VEVENT
DTSTART;TZID=US/Central:20130319T114500


DTSTAMP:20260422T165500Z
CREATED:20130317T212900Z
LAST-MODIFIED:20130317T212900Z
UID:20130319T114500-16391@law.utexas.edu
SUMMARY:SBA Spring Elections Candidates Meeting
DESCRIPTION:<p>If you would like to run in the Student Bar Association's Spring Elections, you must attend a short, mandatory candidates' meeting on Tuesday, March 19 at 11:45a.m. in the SBA Office TNH 2.128E. </p>
  <p>For more details on Elections, please visit <a href="http://www.utexas.edu/law/orgs/sba/SBA/constitution.htm">http://www.utexas.edu/law/orgs/sba/SBA/constitution.htm</a> or contact SBA Elections Chair Cedric Seley at texas.sba@gmail.com.</p>\n\nIf you need an accommodation to participate in this event, please contact the event sponsor or the Texas Law Special Events Office at specialevents@law.utexas.edu no later than seven business days prior to the event.
X-ALT-DESC;FMTTYPE=text/html:<p>If you would like to run in the Student Bar Association's Spring Elections, you must attend a short, mandatory candidates' meeting on Tuesday, March 19 at 11:45a.m. in the SBA Office TNH 2.128E. </p>
  <p>For more details on Elections, please visit <a href="http://www.utexas.edu/law/orgs/sba/SBA/constitution.htm">http://www.utexas.edu/law/orgs/sba/SBA/constitution.htm</a> or contact SBA Elections Chair Cedric Seley at texas.sba@gmail.com.</p><p>If you need an accommodation to participate in this event, please contact the event
                                          event sponsor or the Texas Law Special Events Office at <a href="mailto:specialevents@law.utexas.edu">specialevents@law.utexas.edu</a> no later than seven business days prior to the event.</p>


URL:http://law.utexas.edu/calendar/2013/03/19/16391/
CLASS:PUBLIC
STATUS:CONFIRMED

END:VEVENT
END:VCALENDAR