BEGIN:VCALENDAR
VERSION:2.0
PRODID:-//UNIVERSITY OF TEXAS SCHOOL OF LAW//NONSGML Events Calendar v1.0//EN
X-WR-TIMEZONE:America/Chicago
BEGIN:VTIMEZONE
TZID:US/Central
X-LIC-LOCATION:America/Chicago
BEGIN:DAYLIGHT
TZOFFSETFROM:-0600
TZOFFSETTO:-0500
TZNAME:CDT
DTSTART:19700308T020000
RRULE:FREQ=YEARLY;BYMONTH=3;BYDAY=2SU
END:DAYLIGHT
BEGIN:STANDARD
TZOFFSETFROM:-0500
TZOFFSETTO:-0600
TZNAME:CST
DTSTART:19701101T020000
RRULE:FREQ=YEARLY;BYMONTH=11;BYDAY=1SU
END:STANDARD
END:VTIMEZONE
BEGIN:VEVENT
DTSTART;TZID=US/Central:20130320T133000
DTEND;VALUE=DATE-TIME;TZID=US/Central:20130320T171500

DTSTAMP:20260422T180800Z
CREATED:20130222T215000Z
LAST-MODIFIED:20130222T215700Z
UID:20130320T133000-16230@law.utexas.edu
SUMMARY:LAND USE PLANNING FUNDAMENTALS
DESCRIPTION:<p>Land Use Planning Fundamentals—the ideal primer or refresher—covers how governmental regulation affects real estate and community development, and explains the sometimes mystifying terminology used by planners, developers, and land use lawyers. Hear perspectives from both sides of the development process and learn the best way to address issues that arise.</p>
  <p>2013 topics include:</p>
  <p>- The Private vs. Public Interplay of the Roles of City Manager, Planning Director and Developer
  - Basics of Regulation
  - Basics of Zoning
  - Platting 101
  - Options for Handling Nonconformities
  - Day-to-Day Real Estate Issues in a City Attorney's Office</p>
  <p>Register at www.utcle.org/conferences/LB13
  </p>\n\nIf you need an accommodation to participate in this event, please contact the event sponsor or the Texas Law Special Events Office at specialevents@law.utexas.edu no later than seven business days prior to the event.
X-ALT-DESC;FMTTYPE=text/html:<p>Land Use Planning Fundamentals—the ideal primer or refresher—covers how governmental regulation affects real estate and community development, and explains the sometimes mystifying terminology used by planners, developers, and land use lawyers. Hear perspectives from both sides of the development process and learn the best way to address issues that arise.</p>
  <p>2013 topics include:</p>
  <p>- The Private vs. Public Interplay of the Roles of City Manager, Planning Director and Developer
  - Basics of Regulation
  - Basics of Zoning
  - Platting 101
  - Options for Handling Nonconformities
  - Day-to-Day Real Estate Issues in a City Attorney's Office</p>
  <p>Register at www.utcle.org/conferences/LB13
  </p><p>If you need an accommodation to participate in this event, please contact the event
                                          event sponsor or the Texas Law Special Events Office at <a href="mailto:specialevents@law.utexas.edu">specialevents@law.utexas.edu</a> no later than seven business days prior to the event.</p>
CATEGORIES:Other
LOCATION:AT&T Conference Center
URL:http://law.utexas.edu/calendar/2013/03/20/16230/
CLASS:PUBLIC
STATUS:CONFIRMED
COMMENT:http://www.utcle.org/conferences/LB13
END:VEVENT
END:VCALENDAR