BEGIN:VCALENDAR
VERSION:2.0
PRODID:-//UNIVERSITY OF TEXAS SCHOOL OF LAW//NONSGML Events Calendar v1.0//EN
X-WR-TIMEZONE:America/Chicago
BEGIN:VTIMEZONE
TZID:US/Central
X-LIC-LOCATION:America/Chicago
BEGIN:DAYLIGHT
TZOFFSETFROM:-0600
TZOFFSETTO:-0500
TZNAME:CDT
DTSTART:19700308T020000
RRULE:FREQ=YEARLY;BYMONTH=3;BYDAY=2SU
END:DAYLIGHT
BEGIN:STANDARD
TZOFFSETFROM:-0500
TZOFFSETTO:-0600
TZNAME:CST
DTSTART:19701101T020000
RRULE:FREQ=YEARLY;BYMONTH=11;BYDAY=1SU
END:STANDARD
END:VTIMEZONE
BEGIN:VEVENT
DTSTART;TZID=US/Central:20130320T130000
DTEND;VALUE=DATE-TIME;TZID=US/Central:20130320T170000

DTSTAMP:20260422T182100Z
CREATED:20130227T180100Z
LAST-MODIFIED:20130227T180100Z
UID:20130320T130000-16263@law.utexas.edu
SUMMARY:Cultivating University-Community Engagem
DESCRIPTION:<p>
  Please join us for a half-day forum on university engagement with communities. Highlighting recent case studies involving UT faculty and students, the forum offers an opportunity for meaningful discourse about cultivating effective community engagement relationships and a chance to assess the strengths and challenges of community-university partnerships. The forum will bring together faculty, students, administrators, and community members who are engaged in this work and in a position of influence teaching, policy, and practice. Scott J. Peters, Co-Director at Imagining America, will deliver the keynote, followed by case studies, interactive breakout sessions, and final reconvening. The day will end with a reception and poster session featuring student projects.
   
  For more information on Dr. Peters and Imagining America, visit <a href="http://imaginingamerica.org">http://imaginingamerica.org</a>
  More information: Registration is avaialble at <a href="http://www.eventbrite.com/event/5475846404.">http://www.eventbrite.com/event/5475846404.</a> Registration for this event is required.</p>\n\nIf you need an accommodation to participate in this event, please contact the event sponsor or the Texas Law Special Events Office at specialevents@law.utexas.edu no later than seven business days prior to the event.
X-ALT-DESC;FMTTYPE=text/html:<p>
  Please join us for a half-day forum on university engagement with communities. Highlighting recent case studies involving UT faculty and students, the forum offers an opportunity for meaningful discourse about cultivating effective community engagement relationships and a chance to assess the strengths and challenges of community-university partnerships. The forum will bring together faculty, students, administrators, and community members who are engaged in this work and in a position of influence teaching, policy, and practice. Scott J. Peters, Co-Director at Imagining America, will deliver the keynote, followed by case studies, interactive breakout sessions, and final reconvening. The day will end with a reception and poster session featuring student projects.
   
  For more information on Dr. Peters and Imagining America, visit <a href="http://imaginingamerica.org">http://imaginingamerica.org</a>
  More information: Registration is avaialble at <a href="http://www.eventbrite.com/event/5475846404.">http://www.eventbrite.com/event/5475846404.</a> Registration for this event is required.</p><p>If you need an accommodation to participate in this event, please contact the event
                                          event sponsor or the Texas Law Special Events Office at <a href="mailto:specialevents@law.utexas.edu">specialevents@law.utexas.edu</a> no later than seven business days prior to the event.</p>
CATEGORIES:Workshop / Training Program
LOCATION:School of Social Work, Utopia Theater
URL:http://law.utexas.edu/calendar/2013/03/20/16263/
CLASS:PUBLIC
STATUS:CONFIRMED

END:VEVENT
END:VCALENDAR