BEGIN:VCALENDAR
VERSION:2.0
PRODID:-//UNIVERSITY OF TEXAS SCHOOL OF LAW//NONSGML Events Calendar v1.0//EN
X-WR-TIMEZONE:America/Chicago
BEGIN:VTIMEZONE
TZID:US/Central
X-LIC-LOCATION:America/Chicago
BEGIN:DAYLIGHT
TZOFFSETFROM:-0600
TZOFFSETTO:-0500
TZNAME:CDT
DTSTART:19700308T020000
RRULE:FREQ=YEARLY;BYMONTH=3;BYDAY=2SU
END:DAYLIGHT
BEGIN:STANDARD
TZOFFSETFROM:-0500
TZOFFSETTO:-0600
TZNAME:CST
DTSTART:19701101T020000
RRULE:FREQ=YEARLY;BYMONTH=11;BYDAY=1SU
END:STANDARD
END:VTIMEZONE
BEGIN:VEVENT
DTSTART;TZID=US/Central:20130321T143000
DTEND;VALUE=DATE-TIME;TZID=US/Central:20130321T160000

DTSTAMP:20260422T165200Z
CREATED:20121210T222900Z
LAST-MODIFIED:20130315T215300Z
UID:20130321T143000-15608@law.utexas.edu
SUMMARY:Career &amp; Family:  Get What You Want
DESCRIPTION:<p>For lawyers, navigating children and careers can be daunting. Hear from leading lawyers who have done it and from their children who have lived it. Attendees will gain insights into how to chart their own paths to fulfilling careers and families.
   
  Speakers:
   
  Melanie Gray, Partner, Weil, Gotshal &amp; Manges LLP and son, Chris Wawro
   
  Kathleen C. Lake, Retired Partner, Vinson &amp; Elkins LLP and son, Ethan Lake
   
  Lisa Pennington, Managing Partner (Houston), Baker Hostetler and son, John Furlow
  </p>\n\nIf you need an accommodation to participate in this event, please contact the event sponsor or the Texas Law Special Events Office at specialevents@law.utexas.edu no later than seven business days prior to the event.
X-ALT-DESC;FMTTYPE=text/html:<p>For lawyers, navigating children and careers can be daunting. Hear from leading lawyers who have done it and from their children who have lived it. Attendees will gain insights into how to chart their own paths to fulfilling careers and families.
   
  Speakers:
   
  Melanie Gray, Partner, Weil, Gotshal &amp; Manges LLP and son, Chris Wawro
   
  Kathleen C. Lake, Retired Partner, Vinson &amp; Elkins LLP and son, Ethan Lake
   
  Lisa Pennington, Managing Partner (Houston), Baker Hostetler and son, John Furlow
  </p><p>If you need an accommodation to participate in this event, please contact the event
                                          event sponsor or the Texas Law Special Events Office at <a href="mailto:specialevents@law.utexas.edu">specialevents@law.utexas.edu</a> no later than seven business days prior to the event.</p>
CATEGORIES:Panel Discussion / Speaker Series
LOCATION:CCJ 2.306 - Eidman Courtroom
URL:http://law.utexas.edu/calendar/2013/03/21/15608/
CLASS:PUBLIC
STATUS:CONFIRMED
COMMENT:Call or email Melissa: 512-232-1911, mgalusky@law.utexas.edu
END:VEVENT
END:VCALENDAR