BEGIN:VCALENDAR
VERSION:2.0
PRODID:-//UNIVERSITY OF TEXAS SCHOOL OF LAW//NONSGML Events Calendar v1.0//EN
X-WR-TIMEZONE:America/Chicago
BEGIN:VTIMEZONE
TZID:US/Central
X-LIC-LOCATION:America/Chicago
BEGIN:DAYLIGHT
TZOFFSETFROM:-0600
TZOFFSETTO:-0500
TZNAME:CDT
DTSTART:19700308T020000
RRULE:FREQ=YEARLY;BYMONTH=3;BYDAY=2SU
END:DAYLIGHT
BEGIN:STANDARD
TZOFFSETFROM:-0500
TZOFFSETTO:-0600
TZNAME:CST
DTSTART:19701101T020000
RRULE:FREQ=YEARLY;BYMONTH=11;BYDAY=1SU
END:STANDARD
END:VTIMEZONE
BEGIN:VEVENT
DTSTART;TZID=US/Central:20130321T081500
DTEND;VALUE=DATE-TIME;TZID=US/Central:20130321T091500

DTSTAMP:20260422T180700Z
CREATED:20130118T173300Z
LAST-MODIFIED:20130318T223300Z
UID:20130321T081500-15915@law.utexas.edu
SUMMARY:Coffee &amp; Conversation
DESCRIPTION:<p>Start your morning off with great coffee, breakfast goodies, and even better conversation with <a href="http://www.dwlawtx.com/attorney/ben-de-leon/">Ben De Leon, ’04, President of De Leon &amp; Washburn, P.C.</a> His practice focuses on the areas of administrative law, corporate law, general civil litigation, labor and employment, appellate law and insurance law. RSVP by Wednesday, March 20, on <a title="UT Law Symplicity" href="https://law-utexas-csm.symplicity.com/students/">UT Law Symplicity</a> by selecting the "Events" tab.</p>
  <p>The Coffee &amp; Conversation series provides the opportunity to get to know UT Law alumni, faculty and staff in an informal setting. Learn about the practice of law, professional development, and more.
  </p>\n\nIf you need an accommodation to participate in this event, please contact the event sponsor or the Texas Law Special Events Office at specialevents@law.utexas.edu no later than seven business days prior to the event.
X-ALT-DESC;FMTTYPE=text/html:<p>Start your morning off with great coffee, breakfast goodies, and even better conversation with <a href="http://www.dwlawtx.com/attorney/ben-de-leon/">Ben De Leon, ’04, President of De Leon &amp; Washburn, P.C.</a> His practice focuses on the areas of administrative law, corporate law, general civil litigation, labor and employment, appellate law and insurance law. RSVP by Wednesday, March 20, on <a title="UT Law Symplicity" href="https://law-utexas-csm.symplicity.com/students/">UT Law Symplicity</a> by selecting the "Events" tab.</p>
  <p>The Coffee &amp; Conversation series provides the opportunity to get to know UT Law alumni, faculty and staff in an informal setting. Learn about the practice of law, professional development, and more.
  </p><p>If you need an accommodation to participate in this event, please contact the event
                                          event sponsor or the Texas Law Special Events Office at <a href="mailto:specialevents@law.utexas.edu">specialevents@law.utexas.edu</a> no later than seven business days prior to the event.</p>
CATEGORIES:Breakfast
LOCATION:Career Services Interview Suite (TNH 3.122)
URL:http://law.utexas.edu/calendar/2013/03/21/15915/
CLASS:PUBLIC
STATUS:CONFIRMED
COMMENT:Please contact Angelica Salinas Evans, Associate Director of Career Services, at <a href="mailto:aevans@law.utexas.edu">aevans@law.utexas.edu</a> in the CSO.
END:VEVENT
END:VCALENDAR