BEGIN:VCALENDAR
VERSION:2.0
PRODID:-//UNIVERSITY OF TEXAS SCHOOL OF LAW//NONSGML Events Calendar v1.0//EN
X-WR-TIMEZONE:America/Chicago
BEGIN:VTIMEZONE
TZID:US/Central
X-LIC-LOCATION:America/Chicago
BEGIN:DAYLIGHT
TZOFFSETFROM:-0600
TZOFFSETTO:-0500
TZNAME:CDT
DTSTART:19700308T020000
RRULE:FREQ=YEARLY;BYMONTH=3;BYDAY=2SU
END:DAYLIGHT
BEGIN:STANDARD
TZOFFSETFROM:-0500
TZOFFSETTO:-0600
TZNAME:CST
DTSTART:19701101T020000
RRULE:FREQ=YEARLY;BYMONTH=11;BYDAY=1SU
END:STANDARD
END:VTIMEZONE
BEGIN:VEVENT
DTSTART;TZID=US/Central:20130321T083000
DTEND;VALUE=DATE-TIME;TZID=US/Central:20130321T174500

DTSTAMP:20260422T165200Z
CREATED:20130222T215500Z
LAST-MODIFIED:20130222T215600Z
UID:20130321T083000-16233@law.utexas.edu
SUMMARY:FUNDAMENTALS OF OIL, GAS AND MINERAL LAW
DESCRIPTION:<p>UT Law's Fundamentals of Oil, Gas and Mineral Law brings together a distinguished faculty of both academics and practitioners for a series of presentations designed to provide a comprehensive overview of oil and gas legal issues.</p>
  <p>The program opens with the definitive primer on how to drill an oil or gas well and continues with sessions on the Rule of Capture; oil and gas interests; a four-session look at the oil and gas lease including classification, royalty valuation, implied covenants and other clauses; conveyancing; and the Joint Operating Agreement.</p>
  <p>Register at www.utcle.org/conferences/OP13</p>\n\nIf you need an accommodation to participate in this event, please contact the event sponsor or the Texas Law Special Events Office at specialevents@law.utexas.edu no later than seven business days prior to the event.
X-ALT-DESC;FMTTYPE=text/html:<p>UT Law's Fundamentals of Oil, Gas and Mineral Law brings together a distinguished faculty of both academics and practitioners for a series of presentations designed to provide a comprehensive overview of oil and gas legal issues.</p>
  <p>The program opens with the definitive primer on how to drill an oil or gas well and continues with sessions on the Rule of Capture; oil and gas interests; a four-session look at the oil and gas lease including classification, royalty valuation, implied covenants and other clauses; conveyancing; and the Joint Operating Agreement.</p>
  <p>Register at www.utcle.org/conferences/OP13</p><p>If you need an accommodation to participate in this event, please contact the event
                                          event sponsor or the Texas Law Special Events Office at <a href="mailto:specialevents@law.utexas.edu">specialevents@law.utexas.edu</a> no later than seven business days prior to the event.</p>
CATEGORIES:Other
LOCATION:Houston, Texas
URL:http://law.utexas.edu/calendar/2013/03/21/16233/
CLASS:PUBLIC
STATUS:CONFIRMED
COMMENT:http://www.utcle.org/conferences/OP13
END:VEVENT
END:VCALENDAR