BEGIN:VCALENDAR
VERSION:2.0
PRODID:-//UNIVERSITY OF TEXAS SCHOOL OF LAW//NONSGML Events Calendar v1.0//EN
X-WR-TIMEZONE:America/Chicago
BEGIN:VTIMEZONE
TZID:US/Central
X-LIC-LOCATION:America/Chicago
BEGIN:DAYLIGHT
TZOFFSETFROM:-0600
TZOFFSETTO:-0500
TZNAME:CDT
DTSTART:19700308T020000
RRULE:FREQ=YEARLY;BYMONTH=3;BYDAY=2SU
END:DAYLIGHT
BEGIN:STANDARD
TZOFFSETFROM:-0500
TZOFFSETTO:-0600
TZNAME:CST
DTSTART:19701101T020000
RRULE:FREQ=YEARLY;BYMONTH=11;BYDAY=1SU
END:STANDARD
END:VTIMEZONE
BEGIN:VEVENT
DTSTART;TZID=US/Central:20130321T153000
DTEND;VALUE=DATE-TIME;TZID=US/Central:20130321T163000

DTSTAMP:20260422T165200Z
CREATED:20130317T163500Z
LAST-MODIFIED:20130317T163500Z
UID:20130321T153000-16390@law.utexas.edu
SUMMARY:Protecting Privacy
DESCRIPTION:<p>David Vladeck, outgoing Director of the Federal Trade Commission's Bureau of Consumer Protection, Georgetown Law Professor, and Co-Director of the Institute for Public Representation at Georgetown Law, will discuss some of the challenges confronting Congress and the Executive as they seek to address consumer privacy concerns in today's digital economy, as well as specific intiatives that the FTC undertook to protect consumer privacy during his tenure at the agency. Cookies and light refreshments will be provided!</p>
  <p>WHEN: Thursday, March 21 at 3:30pm</p>
  <p>WHERE: TNH 3.125</p>\n\nIf you need an accommodation to participate in this event, please contact the event sponsor or the Texas Law Special Events Office at specialevents@law.utexas.edu no later than seven business days prior to the event.
X-ALT-DESC;FMTTYPE=text/html:<p>David Vladeck, outgoing Director of the Federal Trade Commission's Bureau of Consumer Protection, Georgetown Law Professor, and Co-Director of the Institute for Public Representation at Georgetown Law, will discuss some of the challenges confronting Congress and the Executive as they seek to address consumer privacy concerns in today's digital economy, as well as specific intiatives that the FTC undertook to protect consumer privacy during his tenure at the agency. Cookies and light refreshments will be provided!</p>
  <p>WHEN: Thursday, March 21 at 3:30pm</p>
  <p>WHERE: TNH 3.125</p><p>If you need an accommodation to participate in this event, please contact the event
                                          event sponsor or the Texas Law Special Events Office at <a href="mailto:specialevents@law.utexas.edu">specialevents@law.utexas.edu</a> no later than seven business days prior to the event.</p>
CATEGORIES:Panel Discussion / Speaker Series
LOCATION:TNH 3.125 - Denius Classroom
URL:http://law.utexas.edu/calendar/2013/03/21/16390/
CLASS:PUBLIC
STATUS:CONFIRMED

END:VEVENT
END:VCALENDAR