BEGIN:VCALENDAR
VERSION:2.0
PRODID:-//UNIVERSITY OF TEXAS SCHOOL OF LAW//NONSGML Events Calendar v1.0//EN
X-WR-TIMEZONE:America/Chicago
BEGIN:VTIMEZONE
TZID:US/Central
X-LIC-LOCATION:America/Chicago
BEGIN:DAYLIGHT
TZOFFSETFROM:-0600
TZOFFSETTO:-0500
TZNAME:CDT
DTSTART:19700308T020000
RRULE:FREQ=YEARLY;BYMONTH=3;BYDAY=2SU
END:DAYLIGHT
BEGIN:STANDARD
TZOFFSETFROM:-0500
TZOFFSETTO:-0600
TZNAME:CST
DTSTART:19701101T020000
RRULE:FREQ=YEARLY;BYMONTH=11;BYDAY=1SU
END:STANDARD
END:VTIMEZONE
BEGIN:VEVENT
DTSTART;TZID=US/Central:20130322T090000
DTEND;VALUE=DATE-TIME;TZID=US/Central:20130322T190000

DTSTAMP:20260422T165400Z
CREATED:20121030T200900Z
LAST-MODIFIED:20130319T150100Z
UID:20130322T090000-15435@law.utexas.edu
SUMMARY:Institute
DESCRIPTION:<p>Learn critical skills to successfully navigate your career through small group workshops (3:1 ratio) with partners, general counsel, senior government and non-profit attorneys.</p>\n\nIf you need an accommodation to participate in this event, please contact the event sponsor or the Texas Law Special Events Office at specialevents@law.utexas.edu no later than seven business days prior to the event.
X-ALT-DESC;FMTTYPE=text/html:<p>Learn critical skills to successfully navigate your career through small group workshops (3:1 ratio) with partners, general counsel, senior government and non-profit attorneys.</p><p>If you need an accommodation to participate in this event, please contact the event
                                          event sponsor or the Texas Law Special Events Office at <a href="mailto:specialevents@law.utexas.edu">specialevents@law.utexas.edu</a> no later than seven business days prior to the event.</p>
CATEGORIES:Workshop / Training Program
LOCATION:
URL:http://law.utexas.edu/calendar/2013/03/22/15435/
CLASS:PUBLIC
STATUS:CONFIRMED
COMMENT:Melissa Galusky | mgalusky@law.utexas.edu | 512-232-1911
END:VEVENT
END:VCALENDAR