BEGIN:VCALENDAR
VERSION:2.0
PRODID:-//UNIVERSITY OF TEXAS SCHOOL OF LAW//NONSGML Events Calendar v1.0//EN
X-WR-TIMEZONE:America/Chicago
BEGIN:VTIMEZONE
TZID:US/Central
X-LIC-LOCATION:America/Chicago
BEGIN:DAYLIGHT
TZOFFSETFROM:-0600
TZOFFSETTO:-0500
TZNAME:CDT
DTSTART:19700308T020000
RRULE:FREQ=YEARLY;BYMONTH=3;BYDAY=2SU
END:DAYLIGHT
BEGIN:STANDARD
TZOFFSETFROM:-0500
TZOFFSETTO:-0600
TZNAME:CST
DTSTART:19701101T020000
RRULE:FREQ=YEARLY;BYMONTH=11;BYDAY=1SU
END:STANDARD
END:VTIMEZONE
BEGIN:VEVENT
DTSTART;TZID=US/Central:20130322T083000
DTEND;VALUE=DATE-TIME;TZID=US/Central:20130322T171500

DTSTAMP:20260422T180800Z
CREATED:20130222T220700Z
LAST-MODIFIED:20130222T220700Z
UID:20130322T083000-16235@law.utexas.edu
SUMMARY:ERNEST E. SMITH OIL, GAS AND MINERAL LAW
DESCRIPTION:<p>Now in its 39th year, the Ernest E. Smith Oil, Gas and Mineral Law Institute has earned the reputation of being the definitive course for attorneys in private practice, in-house counsel, E&amp;P operators, and landmen. This year's conference brings together a distinguished faculty of both academics and practitioners for a full day of presentations covering the latest in oil and gas developments.</p>
  <p>2013 program highlights include:</p>
  <p>- Professor Ernest Smith's annual Case Law Update
  - Current Surface Use Issues
  - The Expanding Reach of Exculpatory Provisions and Releases in Asset Purchase and Joint Operating Agreements
  - Use of Natural Gas for Power Generation
  - Horizontal Wells and Commingling
  - The Supreme Court and Landowner Condemnation-Industry and Landowner Perspectives
  - Ethics: What Lawyers Can Learn About Professionalism and Communication from the Career of Abraham Lincoln</p>
  <p>Register at www.utcle.org/conferences/OG13</p>\n\nIf you need an accommodation to participate in this event, please contact the event sponsor or the Texas Law Special Events Office at specialevents@law.utexas.edu no later than seven business days prior to the event.
X-ALT-DESC;FMTTYPE=text/html:<p>Now in its 39th year, the Ernest E. Smith Oil, Gas and Mineral Law Institute has earned the reputation of being the definitive course for attorneys in private practice, in-house counsel, E&amp;P operators, and landmen. This year's conference brings together a distinguished faculty of both academics and practitioners for a full day of presentations covering the latest in oil and gas developments.</p>
  <p>2013 program highlights include:</p>
  <p>- Professor Ernest Smith's annual Case Law Update
  - Current Surface Use Issues
  - The Expanding Reach of Exculpatory Provisions and Releases in Asset Purchase and Joint Operating Agreements
  - Use of Natural Gas for Power Generation
  - Horizontal Wells and Commingling
  - The Supreme Court and Landowner Condemnation-Industry and Landowner Perspectives
  - Ethics: What Lawyers Can Learn About Professionalism and Communication from the Career of Abraham Lincoln</p>
  <p>Register at www.utcle.org/conferences/OG13</p><p>If you need an accommodation to participate in this event, please contact the event
                                          event sponsor or the Texas Law Special Events Office at <a href="mailto:specialevents@law.utexas.edu">specialevents@law.utexas.edu</a> no later than seven business days prior to the event.</p>
CATEGORIES:Other
LOCATION:Houston, Texas
URL:http://law.utexas.edu/calendar/2013/03/22/16235/
CLASS:PUBLIC
STATUS:CONFIRMED
COMMENT:http://www.utcle.org/conferences/OG13
END:VEVENT
END:VCALENDAR