BEGIN:VCALENDAR
VERSION:2.0
PRODID:-//UNIVERSITY OF TEXAS SCHOOL OF LAW//NONSGML Events Calendar v1.0//EN
X-WR-TIMEZONE:America/Chicago
BEGIN:VTIMEZONE
TZID:US/Central
X-LIC-LOCATION:America/Chicago
BEGIN:DAYLIGHT
TZOFFSETFROM:-0600
TZOFFSETTO:-0500
TZNAME:CDT
DTSTART:19700308T020000
RRULE:FREQ=YEARLY;BYMONTH=3;BYDAY=2SU
END:DAYLIGHT
BEGIN:STANDARD
TZOFFSETFROM:-0500
TZOFFSETTO:-0600
TZNAME:CST
DTSTART:19701101T020000
RRULE:FREQ=YEARLY;BYMONTH=11;BYDAY=1SU
END:STANDARD
END:VTIMEZONE
BEGIN:VEVENT
DTSTART;TZID=US/Central:20130322T180000
DTEND;VALUE=DATE-TIME;TZID=US/Central:20130322T220000

DTSTAMP:20260422T165200Z
CREATED:20130321T194400Z
LAST-MODIFIED:20130321T194400Z
UID:20130322T180000-16421@law.utexas.edu
SUMMARY:TMLS Banquet
DESCRIPTION:<p>TMLS concludes each year with an annual banquet honoring our outgoing third-year members who have dedicated their time and efforts, the African-American legal community, and our donors for their distinguished support of the organization and the community.  We also extend invitations to the admitted students in the hopes that we can welcome them into the fold, let them know who we are, and share what they can b a part of before they set foot in the law school in the fall.</p>\n\nIf you need an accommodation to participate in this event, please contact the event sponsor or the Texas Law Special Events Office at specialevents@law.utexas.edu no later than seven business days prior to the event.
X-ALT-DESC;FMTTYPE=text/html:<p>TMLS concludes each year with an annual banquet honoring our outgoing third-year members who have dedicated their time and efforts, the African-American legal community, and our donors for their distinguished support of the organization and the community.  We also extend invitations to the admitted students in the hopes that we can welcome them into the fold, let them know who we are, and share what they can b a part of before they set foot in the law school in the fall.</p><p>If you need an accommodation to participate in this event, please contact the event
                                          event sponsor or the Texas Law Special Events Office at <a href="mailto:specialevents@law.utexas.edu">specialevents@law.utexas.edu</a> no later than seven business days prior to the event.</p>
CATEGORIES:Dinner
LOCATION:Driskill Hotel, 604 Brazos Street, Austin, TX
URL:http://law.utexas.edu/calendar/2013/03/22/16421/
CLASS:PUBLIC
STATUS:CONFIRMED
COMMENT:If you would like to find out more information regarding advertising and sponsorship, please email jmd.heinemann@gmail.com or feel free to direct questions regarding the banquet to tmlsbanquet@gmail.com
END:VEVENT
END:VCALENDAR