BEGIN:VCALENDAR
VERSION:2.0
PRODID:-//UNIVERSITY OF TEXAS SCHOOL OF LAW//NONSGML Events Calendar v1.0//EN
X-WR-TIMEZONE:America/Chicago
BEGIN:VTIMEZONE
TZID:US/Central
X-LIC-LOCATION:America/Chicago
BEGIN:DAYLIGHT
TZOFFSETFROM:-0600
TZOFFSETTO:-0500
TZNAME:CDT
DTSTART:19700308T020000
RRULE:FREQ=YEARLY;BYMONTH=3;BYDAY=2SU
END:DAYLIGHT
BEGIN:STANDARD
TZOFFSETFROM:-0500
TZOFFSETTO:-0600
TZNAME:CST
DTSTART:19701101T020000
RRULE:FREQ=YEARLY;BYMONTH=11;BYDAY=1SU
END:STANDARD
END:VTIMEZONE
BEGIN:VEVENT
DTSTART;TZID=US/Central:20130325T081500
DTEND;VALUE=DATE-TIME;TZID=US/Central:20130325T173000

DTSTAMP:20260422T180800Z
CREATED:20130222T214600Z
LAST-MODIFIED:20130222T215800Z
UID:20130325T081500-16227@law.utexas.edu
SUMMARY:HIGHER EDUCATION TAXATION INSTITUTE
DESCRIPTION:<p>The University of Texas School of Law’s Higher Education Taxation Institute (HETI) provides a unique forum for college and university tax professionals from around the country to examine and discuss federal tax issues and compliance, legislative, judicial, regulatory and administrative changes affecting colleges and universities. Don't miss valuable expertise, timely insight into federal tax law developments, and numerous networking opportunities with sessions that include: </p>
  <p>- Updates from key IRS officials
  - Sunday Evening Keynote Presentation by the U.S. Department of Education—The Future of Higher Education
  - Major developments in college and university tax law
  - Issues in tax-exempt finance, alternative investments, charitable contributions and employment law
  - In-house counsel advice and strategies for managing IRS audits
  - Hot topics in college and university UBIT
  - Preparing and implementing a tax-exempt bond and compliance policy
  - Practical approaches to evaluating and structuring joint venture opportunities
  - Changing tax regulations regarding foreign payees
  - Risks and opportunities in global expansion of higher education</p>
  <p>Register at www.utcle.org/conferences/UT13</p>\n\nIf you need an accommodation to participate in this event, please contact the event sponsor or the Texas Law Special Events Office at specialevents@law.utexas.edu no later than seven business days prior to the event.
X-ALT-DESC;FMTTYPE=text/html:<p>The University of Texas School of Law’s Higher Education Taxation Institute (HETI) provides a unique forum for college and university tax professionals from around the country to examine and discuss federal tax issues and compliance, legislative, judicial, regulatory and administrative changes affecting colleges and universities. Don't miss valuable expertise, timely insight into federal tax law developments, and numerous networking opportunities with sessions that include: </p>
  <p>- Updates from key IRS officials
  - Sunday Evening Keynote Presentation by the U.S. Department of Education—The Future of Higher Education
  - Major developments in college and university tax law
  - Issues in tax-exempt finance, alternative investments, charitable contributions and employment law
  - In-house counsel advice and strategies for managing IRS audits
  - Hot topics in college and university UBIT
  - Preparing and implementing a tax-exempt bond and compliance policy
  - Practical approaches to evaluating and structuring joint venture opportunities
  - Changing tax regulations regarding foreign payees
  - Risks and opportunities in global expansion of higher education</p>
  <p>Register at www.utcle.org/conferences/UT13</p><p>If you need an accommodation to participate in this event, please contact the event
                                          event sponsor or the Texas Law Special Events Office at <a href="mailto:specialevents@law.utexas.edu">specialevents@law.utexas.edu</a> no later than seven business days prior to the event.</p>
CATEGORIES:Other
LOCATION:AT&T Conference Center
URL:http://law.utexas.edu/calendar/2013/03/25/16227/
CLASS:PUBLIC
STATUS:CONFIRMED
COMMENT:http://www.utcle.org/conferences/UT13
END:VEVENT
END:VCALENDAR