BEGIN:VCALENDAR
VERSION:2.0
PRODID:-//UNIVERSITY OF TEXAS SCHOOL OF LAW//NONSGML Events Calendar v1.0//EN
X-WR-TIMEZONE:America/Chicago
BEGIN:VTIMEZONE
TZID:US/Central
X-LIC-LOCATION:America/Chicago
BEGIN:DAYLIGHT
TZOFFSETFROM:-0600
TZOFFSETTO:-0500
TZNAME:CDT
DTSTART:19700308T020000
RRULE:FREQ=YEARLY;BYMONTH=3;BYDAY=2SU
END:DAYLIGHT
BEGIN:STANDARD
TZOFFSETFROM:-0500
TZOFFSETTO:-0600
TZNAME:CST
DTSTART:19701101T020000
RRULE:FREQ=YEARLY;BYMONTH=11;BYDAY=1SU
END:STANDARD
END:VTIMEZONE
BEGIN:VEVENT
DTSTART;TZID=US/Central:20130326T113000
DTEND;VALUE=DATE-TIME;TZID=US/Central:20130326T130000

DTSTAMP:20260422T165500Z
CREATED:20130305T214900Z
LAST-MODIFIED:20130308T170100Z
UID:20130326T113000-16291@law.utexas.edu
SUMMARY:Baker Botts Global Women's Forum
DESCRIPTION:<p>The Women's Law Caucus and the women lawyers of Baker Botts invite you to join them on Tuesday, March 26 for lunch and an informative panel discussion. This luncheon program will give female 1L students an opportunity to obtain valuable insights from women lawyers across all levels of the firm. Topics to be discussed include: practicing law in a big firm; selecting a practice group/department; recruiting, mentoring &amp; professional development; maintaining work life balance; tips for success in law school and beyond.</p>
  <p>The target audience for this event is 1L women students. 
  </p>\n\nIf you need an accommodation to participate in this event, please contact the event sponsor or the Texas Law Special Events Office at specialevents@law.utexas.edu no later than seven business days prior to the event.
X-ALT-DESC;FMTTYPE=text/html:<p>The Women's Law Caucus and the women lawyers of Baker Botts invite you to join them on Tuesday, March 26 for lunch and an informative panel discussion. This luncheon program will give female 1L students an opportunity to obtain valuable insights from women lawyers across all levels of the firm. Topics to be discussed include: practicing law in a big firm; selecting a practice group/department; recruiting, mentoring &amp; professional development; maintaining work life balance; tips for success in law school and beyond.</p>
  <p>The target audience for this event is 1L women students. 
  </p><p>If you need an accommodation to participate in this event, please contact the event
                                          event sponsor or the Texas Law Special Events Office at <a href="mailto:specialevents@law.utexas.edu">specialevents@law.utexas.edu</a> no later than seven business days prior to the event.</p>
CATEGORIES:Lunch
LOCATION:TNH 3.125 - Denius Classroom
URL:http://law.utexas.edu/calendar/2013/03/26/16291/
CLASS:PUBLIC
STATUS:CONFIRMED

END:VEVENT
END:VCALENDAR