BEGIN:VCALENDAR
VERSION:2.0
PRODID:-//UNIVERSITY OF TEXAS SCHOOL OF LAW//NONSGML Events Calendar v1.0//EN
X-WR-TIMEZONE:America/Chicago
BEGIN:VTIMEZONE
TZID:US/Central
X-LIC-LOCATION:America/Chicago
BEGIN:DAYLIGHT
TZOFFSETFROM:-0600
TZOFFSETTO:-0500
TZNAME:CDT
DTSTART:19700308T020000
RRULE:FREQ=YEARLY;BYMONTH=3;BYDAY=2SU
END:DAYLIGHT
BEGIN:STANDARD
TZOFFSETFROM:-0500
TZOFFSETTO:-0600
TZNAME:CST
DTSTART:19701101T020000
RRULE:FREQ=YEARLY;BYMONTH=11;BYDAY=1SU
END:STANDARD
END:VTIMEZONE
BEGIN:VEVENT
DTSTART;TZID=US/Central:20130326T113000
DTEND;VALUE=DATE-TIME;TZID=US/Central:20130326T130000

DTSTAMP:20260422T165600Z
CREATED:20130315T151600Z
LAST-MODIFIED:20130322T161000Z
UID:20130326T113000-16383@law.utexas.edu
SUMMARY:Prisons in Latin America
DESCRIPTION:<p>Please join us for a special event featuring Miguel Sarre, Professor of Law and Director of the Center for Public Law at the Instituto Tecnológico Autónomo de México (ITAM). Professor Sarre will present a talk entitled “Prisons in Latin America:  Building up the Wall of Separation between Justice and Revenge.”  The event is co-sponsored by the Lozano Long Institute of Latin American Studies and the Immigration Clinic. Lunch will be provided; RSVP to humanrights@law.utexas.edu</p>\n\nIf you need an accommodation to participate in this event, please contact the event sponsor or the Texas Law Special Events Office at specialevents@law.utexas.edu no later than seven business days prior to the event.
X-ALT-DESC;FMTTYPE=text/html:<p>Please join us for a special event featuring Miguel Sarre, Professor of Law and Director of the Center for Public Law at the Instituto Tecnológico Autónomo de México (ITAM). Professor Sarre will present a talk entitled “Prisons in Latin America:  Building up the Wall of Separation between Justice and Revenge.”  The event is co-sponsored by the Lozano Long Institute of Latin American Studies and the Immigration Clinic. Lunch will be provided; RSVP to humanrights@law.utexas.edu</p><p>If you need an accommodation to participate in this event, please contact the event
                                          event sponsor or the Texas Law Special Events Office at <a href="mailto:specialevents@law.utexas.edu">specialevents@law.utexas.edu</a> no later than seven business days prior to the event.</p>
CATEGORIES:Panel Discussion / Speaker Series
LOCATION:TNH 3.127 - Roberts Classroom
URL:http://law.utexas.edu/calendar/2013/03/26/16383/
CLASS:PUBLIC
STATUS:CONFIRMED

END:VEVENT
END:VCALENDAR