BEGIN:VCALENDAR
VERSION:2.0
PRODID:-//UNIVERSITY OF TEXAS SCHOOL OF LAW//NONSGML Events Calendar v1.0//EN
X-WR-TIMEZONE:America/Chicago
BEGIN:VTIMEZONE
TZID:US/Central
X-LIC-LOCATION:America/Chicago
BEGIN:DAYLIGHT
TZOFFSETFROM:-0600
TZOFFSETTO:-0500
TZNAME:CDT
DTSTART:19700308T020000
RRULE:FREQ=YEARLY;BYMONTH=3;BYDAY=2SU
END:DAYLIGHT
BEGIN:STANDARD
TZOFFSETFROM:-0500
TZOFFSETTO:-0600
TZNAME:CST
DTSTART:19701101T020000
RRULE:FREQ=YEARLY;BYMONTH=11;BYDAY=1SU
END:STANDARD
END:VTIMEZONE
BEGIN:VEVENT
DTSTART;TZID=US/Central:20130327T081500
DTEND;VALUE=DATE-TIME;TZID=US/Central:20130327T090000

DTSTAMP:20260422T165600Z
CREATED:20121218T151900Z
LAST-MODIFIED:20130326T135600Z
UID:20130327T081500-15667@law.utexas.edu
SUMMARY:UTLaw LRAP Informational Session
DESCRIPTION:<p>Are you considering opportunities in government service or public interest law? The UT Law Loan Repayment Assistance Program (LRAP), administered by the William Wayne Justice Center for Public Interest Law, provides financial assistance to graduates with educational debt who enter qualifying public service. The UT Law LRAP, coupled with the new federal Public Service Loan Forgiveness and Income Based Repayment programs, will significantly help graduates in public service repay their educational debt.</p>
  <p>Eden Harrington, Director of the Justice Center, will present basic information about UT Law LRAP and answer questions about it. Wednesday, March 27, 2013, 8:15-9:00 am, Sheffield Room, breakfast provided</p>
  <p>For more information about the event, contact Elena Yujuico, Justice Center Administrator, eyujuico@law.utexas.edu</p>
  <p>For more information about UT LRAP, see <a href="http://www.utexas.edu/law/centers/publicinterest/lrap/">http://www.utexas.edu/law/centers/publicinterest/lrap/</a>
   </p>\n\nIf you need an accommodation to participate in this event, please contact the event sponsor or the Texas Law Special Events Office at specialevents@law.utexas.edu no later than seven business days prior to the event.
X-ALT-DESC;FMTTYPE=text/html:<p>Are you considering opportunities in government service or public interest law? The UT Law Loan Repayment Assistance Program (LRAP), administered by the William Wayne Justice Center for Public Interest Law, provides financial assistance to graduates with educational debt who enter qualifying public service. The UT Law LRAP, coupled with the new federal Public Service Loan Forgiveness and Income Based Repayment programs, will significantly help graduates in public service repay their educational debt.</p>
  <p>Eden Harrington, Director of the Justice Center, will present basic information about UT Law LRAP and answer questions about it. Wednesday, March 27, 2013, 8:15-9:00 am, Sheffield Room, breakfast provided</p>
  <p>For more information about the event, contact Elena Yujuico, Justice Center Administrator, eyujuico@law.utexas.edu</p>
  <p>For more information about UT LRAP, see <a href="http://www.utexas.edu/law/centers/publicinterest/lrap/">http://www.utexas.edu/law/centers/publicinterest/lrap/</a>
   </p><p>If you need an accommodation to participate in this event, please contact the event
                                          event sponsor or the Texas Law Special Events Office at <a href="mailto:specialevents@law.utexas.edu">specialevents@law.utexas.edu</a> no later than seven business days prior to the event.</p>
CATEGORIES:Other
LOCATION:TNH 2.111 - Sheffield-Massey Room
URL:http://law.utexas.edu/calendar/2013/03/27/15667/
CLASS:PUBLIC
STATUS:CONFIRMED

END:VEVENT
END:VCALENDAR