BEGIN:VCALENDAR
VERSION:2.0
PRODID:-//UNIVERSITY OF TEXAS SCHOOL OF LAW//NONSGML Events Calendar v1.0//EN
X-WR-TIMEZONE:America/Chicago
BEGIN:VTIMEZONE
TZID:US/Central
X-LIC-LOCATION:America/Chicago
BEGIN:DAYLIGHT
TZOFFSETFROM:-0600
TZOFFSETTO:-0500
TZNAME:CDT
DTSTART:19700308T020000
RRULE:FREQ=YEARLY;BYMONTH=3;BYDAY=2SU
END:DAYLIGHT
BEGIN:STANDARD
TZOFFSETFROM:-0500
TZOFFSETTO:-0600
TZNAME:CST
DTSTART:19701101T020000
RRULE:FREQ=YEARLY;BYMONTH=11;BYDAY=1SU
END:STANDARD
END:VTIMEZONE
BEGIN:VEVENT
DTSTART;TZID=US/Central:20130328T120000
DTEND;VALUE=DATE-TIME;TZID=US/Central:20130328T140000

DTSTAMP:20260422T165400Z
CREATED:20130115T220000Z
LAST-MODIFIED:20130326T140700Z
UID:20130328T120000-15849@law.utexas.edu
SUMMARY:Immigration Litigation Update
DESCRIPTION:<p>Please join us for a discussion of recent developments with immigration law experts Lucas Guttentag of the ACLU, and Nina Perales of MALDEF
  Moderated by Professors Michael Churgin and Barbara Hines, UT Law School</p>
  <p>Nina Perales is Vice President of Litigation for MALDEF.  Lucas Guttentag is senior counsel and founding national director of the Immigrants’ Rights Project of the American Civil Liberties Union Foundation and Yale Law School Distinguished Senior Fellow in Residence.
  The event organizers have request 2 hours of CLE.</p>
  <p>Lunch provided. Please RSVP to Rachel Sidopulos, rsidopulos@law.utexas.edu, by March 22 to reserve your spot. </p>
  <p>Cosponsored by the William Wayne Justice Center for Public Interest Law and the Immigration and Nationality Section of the State Bar of Texas 
  </p>\n\nIf you need an accommodation to participate in this event, please contact the event sponsor or the Texas Law Special Events Office at specialevents@law.utexas.edu no later than seven business days prior to the event.
X-ALT-DESC;FMTTYPE=text/html:<p>Please join us for a discussion of recent developments with immigration law experts Lucas Guttentag of the ACLU, and Nina Perales of MALDEF
  Moderated by Professors Michael Churgin and Barbara Hines, UT Law School</p>
  <p>Nina Perales is Vice President of Litigation for MALDEF.  Lucas Guttentag is senior counsel and founding national director of the Immigrants’ Rights Project of the American Civil Liberties Union Foundation and Yale Law School Distinguished Senior Fellow in Residence.
  The event organizers have request 2 hours of CLE.</p>
  <p>Lunch provided. Please RSVP to Rachel Sidopulos, rsidopulos@law.utexas.edu, by March 22 to reserve your spot. </p>
  <p>Cosponsored by the William Wayne Justice Center for Public Interest Law and the Immigration and Nationality Section of the State Bar of Texas 
  </p><p>If you need an accommodation to participate in this event, please contact the event
                                          event sponsor or the Texas Law Special Events Office at <a href="mailto:specialevents@law.utexas.edu">specialevents@law.utexas.edu</a> no later than seven business days prior to the event.</p>
CATEGORIES:Panel Discussion / Speaker Series
LOCATION:TNH 2.114 - Francis Auditorium
URL:http://law.utexas.edu/calendar/2013/03/28/15849/
CLASS:PUBLIC
STATUS:CONFIRMED

END:VEVENT
END:VCALENDAR