BEGIN:VCALENDAR
VERSION:2.0
PRODID:-//UNIVERSITY OF TEXAS SCHOOL OF LAW//NONSGML Events Calendar v1.0//EN
X-WR-TIMEZONE:America/Chicago
BEGIN:VTIMEZONE
TZID:US/Central
X-LIC-LOCATION:America/Chicago
BEGIN:DAYLIGHT
TZOFFSETFROM:-0600
TZOFFSETTO:-0500
TZNAME:CDT
DTSTART:19700308T020000
RRULE:FREQ=YEARLY;BYMONTH=3;BYDAY=2SU
END:DAYLIGHT
BEGIN:STANDARD
TZOFFSETFROM:-0500
TZOFFSETTO:-0600
TZNAME:CST
DTSTART:19701101T020000
RRULE:FREQ=YEARLY;BYMONTH=11;BYDAY=1SU
END:STANDARD
END:VTIMEZONE
BEGIN:VEVENT
DTSTART;TZID=US/Central:20130328T173000
DTEND;VALUE=DATE-TIME;TZID=US/Central:20130328T193000

DTSTAMP:20260422T182100Z
CREATED:20130213T154100Z
LAST-MODIFIED:20130322T162100Z
UID:20130328T173000-16098@law.utexas.edu
SUMMARY:The Legacy of the Dirty 30
DESCRIPTION:<p>The Bernard and Audre Rapoport Center for Human Rights and Justice, The Texas Observer, and the Dolph Briscoe Center for American History will host a panel discussion entitled “The Legacy of the Dirty Thirty.” The panel will explore a pivotal period in Texas politics in the early ’70s when a group of lawmakers, known as the Dirty Thirty, challenged the influence of special interest in the Legislature and the power of House leadership.</p>
  <p>Panelists will be Sissy Farenthold, Dirty Thirty member and former gubernatorial candidate; Tom Bass, Dirty Thirty member and former Harris County commissioner; Terry O’Rourke, legal strategist, Dirty Thirty; Ronnie Dugger, founding editor of The Texas Observer. The moderator will be State Rep. Ana Hernandez Luna of Houston.</p>
  <p>The event is free and open to the public. RSVP at Walthall@texasobserver.org. </p>\n\nIf you need an accommodation to participate in this event, please contact the event sponsor or the Texas Law Special Events Office at specialevents@law.utexas.edu no later than seven business days prior to the event.
X-ALT-DESC;FMTTYPE=text/html:<p>The Bernard and Audre Rapoport Center for Human Rights and Justice, The Texas Observer, and the Dolph Briscoe Center for American History will host a panel discussion entitled “The Legacy of the Dirty Thirty.” The panel will explore a pivotal period in Texas politics in the early ’70s when a group of lawmakers, known as the Dirty Thirty, challenged the influence of special interest in the Legislature and the power of House leadership.</p>
  <p>Panelists will be Sissy Farenthold, Dirty Thirty member and former gubernatorial candidate; Tom Bass, Dirty Thirty member and former Harris County commissioner; Terry O’Rourke, legal strategist, Dirty Thirty; Ronnie Dugger, founding editor of The Texas Observer. The moderator will be State Rep. Ana Hernandez Luna of Houston.</p>
  <p>The event is free and open to the public. RSVP at Walthall@texasobserver.org. </p><p>If you need an accommodation to participate in this event, please contact the event
                                          event sponsor or the Texas Law Special Events Office at <a href="mailto:specialevents@law.utexas.edu">specialevents@law.utexas.edu</a> no later than seven business days prior to the event.</p>

LOCATION:CCJ 2.306 - Eidman Courtroom
URL:http://law.utexas.edu/calendar/2013/03/28/16098/
CLASS:PUBLIC
STATUS:CONFIRMED

END:VEVENT
END:VCALENDAR