BEGIN:VCALENDAR
VERSION:2.0
PRODID:-//UNIVERSITY OF TEXAS SCHOOL OF LAW//NONSGML Events Calendar v1.0//EN
X-WR-TIMEZONE:America/Chicago
BEGIN:VTIMEZONE
TZID:US/Central
X-LIC-LOCATION:America/Chicago
BEGIN:DAYLIGHT
TZOFFSETFROM:-0600
TZOFFSETTO:-0500
TZNAME:CDT
DTSTART:19700308T020000
RRULE:FREQ=YEARLY;BYMONTH=3;BYDAY=2SU
END:DAYLIGHT
BEGIN:STANDARD
TZOFFSETFROM:-0500
TZOFFSETTO:-0600
TZNAME:CST
DTSTART:19701101T020000
RRULE:FREQ=YEARLY;BYMONTH=11;BYDAY=1SU
END:STANDARD
END:VTIMEZONE
BEGIN:VEVENT
DTSTART;TZID=US/Central:20130328T200000
DTEND;VALUE=DATE-TIME;TZID=US/Central:20130328T220000

DTSTAMP:20260422T165400Z
CREATED:20130327T162400Z
LAST-MODIFIED:20130327T162400Z
UID:20130328T200000-16447@law.utexas.edu
SUMMARY:TLF Pledge Drive "Thank You" Party!
DESCRIPTION:<p>Join TLF at Bar 96 before bar review from 8 - 10 to celebrate the success of this year's Pledge Drive!  Receive 1 free drink ticket at the door for every $25 given during Pledge Drive, up to 4 drinks. See you there! </p>\n\nIf you need an accommodation to participate in this event, please contact the event sponsor or the Texas Law Special Events Office at specialevents@law.utexas.edu no later than seven business days prior to the event.
X-ALT-DESC;FMTTYPE=text/html:<p>Join TLF at Bar 96 before bar review from 8 - 10 to celebrate the success of this year's Pledge Drive!  Receive 1 free drink ticket at the door for every $25 given during Pledge Drive, up to 4 drinks. See you there! </p><p>If you need an accommodation to participate in this event, please contact the event
                                          event sponsor or the Texas Law Special Events Office at <a href="mailto:specialevents@law.utexas.edu">specialevents@law.utexas.edu</a> no later than seven business days prior to the event.</p>


URL:http://law.utexas.edu/calendar/2013/03/28/16447/
CLASS:PUBLIC
STATUS:CONFIRMED

END:VEVENT
END:VCALENDAR