BEGIN:VCALENDAR
VERSION:2.0
PRODID:-//UNIVERSITY OF TEXAS SCHOOL OF LAW//NONSGML Events Calendar v1.0//EN
X-WR-TIMEZONE:America/Chicago
BEGIN:VTIMEZONE
TZID:US/Central
X-LIC-LOCATION:America/Chicago
BEGIN:DAYLIGHT
TZOFFSETFROM:-0600
TZOFFSETTO:-0500
TZNAME:CDT
DTSTART:19700308T020000
RRULE:FREQ=YEARLY;BYMONTH=3;BYDAY=2SU
END:DAYLIGHT
BEGIN:STANDARD
TZOFFSETFROM:-0500
TZOFFSETTO:-0600
TZNAME:CST
DTSTART:19701101T020000
RRULE:FREQ=YEARLY;BYMONTH=11;BYDAY=1SU
END:STANDARD
END:VTIMEZONE
BEGIN:VEVENT
DTSTART;TZID=US/Central:20130401T141500
DTEND;VALUE=DATE-TIME;TZID=US/Central:20130401T151500

DTSTAMP:20260422T153100Z
CREATED:20130325T203700Z
LAST-MODIFIED:20130325T203700Z
UID:20130401T141500-16434@law.utexas.edu
SUMMARY:Developments Under the Fourth Amendment
DESCRIPTION:<p>It's that time again, when the Justices of SCOTUS are hearing arguments and making decisions like the true movers and shakers they are! Please join the American Constitution Society in welcoming Jason Steed for Tiff's Treats, beverages, and a riveting discussion on the 4th Amendment search and seizure cases currently before the Supreme Court.</p>
  <p>WHEN: Monday, April 1 at 2:15 pm
  WHERE: TNH 3.142
  WHAT: Milk + cookies (the perfect afternoon snack)</p>
  <p>Jason is an alumnus of The University of Texas School of Law and an appellate lawyer who regularly speaks about cases and issues before the U.S. Supreme Court. He is co-counsel in the same-sex divorce cases currently pending before the Texas Supreme Court, and later this year he will argue a prisoner's Eighth Amendment appeal before the Ninth Circuit Court of Appeals.         </p>\n\nIf you need an accommodation to participate in this event, please contact the event sponsor or the Texas Law Special Events Office at specialevents@law.utexas.edu no later than seven business days prior to the event.
X-ALT-DESC;FMTTYPE=text/html:<p>It's that time again, when the Justices of SCOTUS are hearing arguments and making decisions like the true movers and shakers they are! Please join the American Constitution Society in welcoming Jason Steed for Tiff's Treats, beverages, and a riveting discussion on the 4th Amendment search and seizure cases currently before the Supreme Court.</p>
  <p>WHEN: Monday, April 1 at 2:15 pm
  WHERE: TNH 3.142
  WHAT: Milk + cookies (the perfect afternoon snack)</p>
  <p>Jason is an alumnus of The University of Texas School of Law and an appellate lawyer who regularly speaks about cases and issues before the U.S. Supreme Court. He is co-counsel in the same-sex divorce cases currently pending before the Texas Supreme Court, and later this year he will argue a prisoner's Eighth Amendment appeal before the Ninth Circuit Court of Appeals.         </p><p>If you need an accommodation to participate in this event, please contact the event
                                          event sponsor or the Texas Law Special Events Office at <a href="mailto:specialevents@law.utexas.edu">specialevents@law.utexas.edu</a> no later than seven business days prior to the event.</p>
CATEGORIES:Panel Discussion / Speaker Series
LOCATION:TNH 3.142 - Walker Classroom
URL:http://law.utexas.edu/calendar/2013/04/01/16434/
CLASS:PUBLIC
STATUS:CONFIRMED

END:VEVENT
END:VCALENDAR