BEGIN:VCALENDAR
VERSION:2.0
PRODID:-//UNIVERSITY OF TEXAS SCHOOL OF LAW//NONSGML Events Calendar v1.0//EN
X-WR-TIMEZONE:America/Chicago
BEGIN:VTIMEZONE
TZID:US/Central
X-LIC-LOCATION:America/Chicago
BEGIN:DAYLIGHT
TZOFFSETFROM:-0600
TZOFFSETTO:-0500
TZNAME:CDT
DTSTART:19700308T020000
RRULE:FREQ=YEARLY;BYMONTH=3;BYDAY=2SU
END:DAYLIGHT
BEGIN:STANDARD
TZOFFSETFROM:-0500
TZOFFSETTO:-0600
TZNAME:CST
DTSTART:19701101T020000
RRULE:FREQ=YEARLY;BYMONTH=11;BYDAY=1SU
END:STANDARD
END:VTIMEZONE
BEGIN:VEVENT
DTSTART;TZID=US/Central:20130402T120000
DTEND;VALUE=DATE-TIME;TZID=US/Central:20130402T130000

DTSTAMP:20260422T153000Z
CREATED:20130111T171000Z
LAST-MODIFIED:20141209T201100Z
UID:20130402T120000-15795@law.utexas.edu
SUMMARY:Judicial Internships: Fall &amp; Spring
DESCRIPTION:<p>This program provides information about judicial internships during school term, in either the fall or spring. Even if you attended the previous panel on summer judicial internships, we encourage you to take advantage of this program to visit directly with judges and judicial staff over lunch about what interns do in their courts and why judicial internships are valuable. Attendees include <a href="http://www.supreme.courts.state.tx.us/court/justice_dlehrmann.asp">Justice Debra Lehrmann, ’82</a>, Supreme Court of Texas; <a href="http://www.txwd.uscourts.gov/general/judges/biographyview.asp?bID=29">Judge Lee Yeakel</a>, ’69, U.S. Court for the Western District of Texas; <a href="http://www.txwb.uscourts.gov/node/151">Judge Christopher Mott</a>, U.S. Bankruptcy Court for the Western District of Texas; <a href="http://www.utexas.edu/law/faculty/crb2398/">Judge Craig Bennett</a> and Judge Tommy Broyles with the State Office of Administrative Hearings; and Julie Urice, '09, Staff Attorney for Judge Elsa Alcala, Texas Court of Criminal Appeals. RSVP by Monday, April 1, on <a title="UT Law Symplicity" href="https://law-utexas-csm.symplicity.com/students/">UT Law Symplicity</a> by selecting the 'Events' tab.</p>\n\nIf you need an accommodation to participate in this event, please contact the event sponsor or the Texas Law Special Events Office at specialevents@law.utexas.edu no later than seven business days prior to the event.
X-ALT-DESC;FMTTYPE=text/html:<p>This program provides information about judicial internships during school term, in either the fall or spring. Even if you attended the previous panel on summer judicial internships, we encourage you to take advantage of this program to visit directly with judges and judicial staff over lunch about what interns do in their courts and why judicial internships are valuable. Attendees include <a href="http://www.supreme.courts.state.tx.us/court/justice_dlehrmann.asp">Justice Debra Lehrmann, ’82</a>, Supreme Court of Texas; <a href="http://www.txwd.uscourts.gov/general/judges/biographyview.asp?bID=29">Judge Lee Yeakel</a>, ’69, U.S. Court for the Western District of Texas; <a href="http://www.txwb.uscourts.gov/node/151">Judge Christopher Mott</a>, U.S. Bankruptcy Court for the Western District of Texas; <a href="http://www.utexas.edu/law/faculty/crb2398/">Judge Craig Bennett</a> and Judge Tommy Broyles with the State Office of Administrative Hearings; and Julie Urice, '09, Staff Attorney for Judge Elsa Alcala, Texas Court of Criminal Appeals. RSVP by Monday, April 1, on <a title="UT Law Symplicity" href="https://law-utexas-csm.symplicity.com/students/">UT Law Symplicity</a> by selecting the 'Events' tab.</p><p>If you need an accommodation to participate in this event, please contact the event
                                          event sponsor or the Texas Law Special Events Office at <a href="mailto:specialevents@law.utexas.edu">specialevents@law.utexas.edu</a> no later than seven business days prior to the event.</p>
CATEGORIES:Lunch
LOCATION:TNH 2.111 - Sheffield-Massey Room
URL:http://law.utexas.edu/calendar/2013/04/02/15795/
CLASS:PUBLIC
STATUS:CONFIRMED
COMMENT:Please contact Remi Ratliff, Director of Judicial Programs, at 512-232-1163 or <a href="mailto:rrattliff@law.utexas.edu">rratliff@law.utexas.edu</a>.
END:VEVENT
END:VCALENDAR